BEGIN:VCALENDAR
VERSION:2.0
CALSCALE:GREGORIAN
METHOD:PUBLISH
PRODID://KING//1386704
BEGIN:VEVENT
DTSTAMP:20260422T053752
VTIMEZONE:America/Denver
DTSTART:20251107T170000Z
DTEND:20251107T200000Z
UID:1386704
SUMMARY:Career Fair
LOCATION:Mohave College Beale Street Center , 309 E. Beale St., Kingman, AZ, 86401
DESCRIPTION:Career Fair\n\n11/07/25 10:00 AM MST\n - 11/07/25 01:00 PM MST\Description:\nMOHAVE COLLEGE\n\nYOUR FUTURE STARTS HERE\nCAREER FAIR\nGET READY FOR SUCCESS\n\nNOV. 7\n10AM - 1PM\n309 E BEALE STREET\nKINGMAN, AZ\n\nFOOD TRUCKS ON SITE\n\nMEET EMPLOYERS\nNetwork with companies that are actively hiring!\nFill out an application.\n\nARIZONA@WORK WILL BE ONSITE TO OFFER:\nMOCK INTERVIEWS\nSharpen your skills to sharpen your skills\n\nRESUME REVIEWS\nGet expert feedback on your resume\n\nCAREER SEARCH GUIDANCE\n\nFor more info email ngebicke@mohave.edu\n\Location:\nMohave College Beale Street Center \n309 E. Beale St.\nKingman, AZ 86401
X-ALT-DESC;FMTTYPE=text/html:Career Fair<br /><br />11/07/25 10:00 AM MST - 11/07/25 01:00 PM MST<br />Description:<br /><p data-end="101" data-start="81" style="text-align: center;"><strong data-end="99" data-start="81">MOHAVE COLLEGE</strong></p>

<p data-end="178" data-start="103" style="text-align: center;"><strong data-end="130" data-start="103">YOUR FUTURE STARTS HERE</strong><br data-end="133" data-start="130" />
<strong data-end="148" data-start="133">CAREER FAIR</strong><br data-end="151" data-start="148" />
<strong data-end="176" data-start="151">GET READY FOR SUCCESS</strong></p>

<p data-end="252" data-start="180" style="text-align: center;"><strong data-end="190" data-start="180">NOV. 7</strong><br data-end="193" data-start="190" />
<strong data-end="207" data-start="193">10AM - 1PM</strong><br data-end="210" data-start="207" />
<strong data-end="232" data-start="210">309 E BEALE STREET</strong><br data-end="235" data-start="232" />
<strong data-end="250" data-start="235">KINGMAN, AZ</strong></p>

<p data-end="279" data-start="254" style="text-align: center;"><strong data-end="277" data-start="254">FOOD TRUCKS ON SITE</strong></p>

<p data-end="379" data-start="281" style="text-align: center;"><strong data-end="299" data-start="281">MEET EMPLOYERS</strong><br data-end="302" data-start="299" />
Network with companies that are actively hiring!<br data-end="353" data-start="350" />
Fill out an application.</p>

<p data-end="491" data-start="381" style="text-align: center;"><strong data-end="422" data-start="381">ARIZONA@WORK WILL BE ONSITE TO OFFER:</strong><br data-end="425" data-start="422" />
<strong data-end="444" data-start="425">MOCK INTERVIEWS</strong><br data-end="447" data-start="444" />
Sharpen your skills to sharpen your skills</p>

<p data-end="550" data-start="493" style="text-align: center;"><strong data-end="511" data-start="493">RESUME REVIEWS</strong><br data-end="514" data-start="511" />
Get expert feedback on your resume</p>

<p data-end="580" data-start="552" style="text-align: center;"><strong data-end="578" data-start="552">CAREER SEARCH GUIDANCE</strong></p>

<p data-end="625" data-start="582" style="text-align: center;">For more info email <strong data-end="625" data-start="602">ngebicke@mohave.edu</strong></p>
<br />Location:<br />Mohave College Beale Street Center <br />309 E. Beale St.<br />Kingman, AZ 86401
PRIORITY:3
TRANSP:TRANSPARENT
BEGIN:VALARM
TRIGGER:-PT5M
ACTION:DISPLAY
DESCRIPTION:Reminder
END:VALARM
END:VEVENT
END:VCALENDAR
