BEGIN:VCALENDAR
VERSION:2.0
CALSCALE:GREGORIAN
METHOD:PUBLISH
PRODID://GDCC//1386860
BEGIN:VEVENT
DTSTAMP:20260425T162744
VTIMEZONE:America/Denver
DTSTART:20251105T143000Z
DTEND:20251105T160000Z
UID:1386860
SUMMARY:POSTPONED: Military Appreciation Ceremony - November 5th
LOCATION:Soldier's Best Friend, 14505 N. 75th Avenue, Peoria, AZ, 85381
DESCRIPTION:POSTPONED: Military Appreciation Ceremony - November 5th\n\n11/05/25 07:30 AM MST\n - 11/05/25 09:00 AM MST\Description:\nIMPORTANT MESSAGE: CEREMONY POSTPONED\n\nWe wanted to share an important update regarding the Military Appreciation Ceremony. Due to the government shutdown, active-duty military members are currently not permitted to attend community events, on or off base. Because of this, we’ve made the difficult decision to postpone the Ceremony.\n\nWe are committed to properly celebrating and recognizing our servicemembers, and we want them to be there in person to join us. Once the shutdown is resolved, we will announce a new date and hope to have your continued support.\n\nIn the meantime, our Chamber team and board will continue working to support and advocate for our military community.\n\nFor questions or concerns, please reach out to Zach Yentzer or Allison Dias.\n\nThank you for your understanding and support.\n\n_____________________________________________________________________\n\nGlendale Chamber of Commerce Military & Veterans Affairs presents the 5th Annual Military Appreciation Ceremony\n\nOur service men and women dedicate their lives to serving our country, but many of them go above the call of duty and become the backbone of our local communities. The Glendale Chamber Military & Veterans Affairs Committee will recognize and thank these incredible service men and women, and their dependents, at the Military Appreciation Ceremony on November 5, 2025, at Soldier's Best Friend. Light breakfast will be provided.\n\nEvent Details:\n\n\n	November 5, 2025\n	Soldier's Best Friend (14505 N. 75th Avenue, Peoria, AZ 85381)\n	7:30am: Check-in & Networking\n	8:00–9:00am: Program\n	Cost: $25 for attendance per individual\n\n\nParking for members and guests will be available in the church parking lot adjacent to the venue. Directional signage will be clearly displayed.\n\nPlease use this form to nominate someone who deserves to be recognized for their dedication to the community. Deadline for nominations is September 30, 2025. All nominees must be active-duty personnel, including national guard and reserves, or their dependents. Please specify the estimated number of hours dedicated to each duty, and describe the impact of their contributions, particularly in community service activities.\n\nNOMINATION FORM HERE\n\nSponsorship Opportunities:\n\nTable Sponsors: $500\n- Table of Six (6)\n- Recognition on the event program\n\nPlatinum Sponsors: $1,000\n- Four (4) Seats\n- Podium recognition at event\n- Company logo featured on event marketing:\n    - Chamber website\n    - Event flyer\n    - Social Media links\n\nPresenting Sponsors: $3,000\n- Table of Eight (8)\n- Company representative to speak 2-3 minutes at event\n- Podium recognition at event\n- Company logo featured on event marketing:\n     - Chamber website\n     - Event flyer\n     - Featured in advertising for event\n     - Social Media links\n     - Featured in eblasts to membership\n\Location:\nSoldier's Best Friend\n14505 N. 75th Avenue\nPeoria, AZ 85381
X-ALT-DESC;FMTTYPE=text/html:POSTPONED: Military Appreciation Ceremony - November 5th<br /><br />11/05/25 07:30 AM MST - 11/05/25 09:00 AM MST<br />Description:<br /><p data-end="440" data-start="140"><span style="color:#FF0000"><strong>IMPORTANT MESSAGE: CEREMONY POSTPONED</strong></span><br />
<br />
We wanted to share an important update regarding the Military Appreciation Ceremony. Due to the government shutdown, active-duty military members are currently not permitted to attend community events, on or off base. Because of this, we&rsquo;ve made the difficult decision to <strong data-end="437" data-start="412">postpone the Ceremony</strong>.</p>

<p data-end="671" data-start="442">We are committed to properly celebrating and recognizing our servicemembers, and we want them to be there in person to join us. Once the shutdown is resolved, we will announce a new date and hope to have your continued support.</p>

<p data-end="792" data-start="673">In the meantime, our Chamber team and board will continue working to support and advocate for our military community.</p>

<p data-end="900" data-start="794">For questions or concerns, please reach out to Zach Yentzer or&nbsp;Allison Dias.</p>

<p data-end="949" data-start="902">Thank you for your understanding and support.</p>

<p>_____________________________________________________________________<br />
<br />
<strong>Glendale Chamber of Commerce Military &amp; Veterans Affairs presents the 5th Annual Military&nbsp;Appreciation Ceremony</strong><br />
<br />
Our service men and women&nbsp;dedicate their lives to serving our country, but many of them go above the call of duty and become the backbone of our local communities. The Glendale Chamber Military &amp; Veterans Affairs Committee will recognize and thank these incredible service men and women, and their dependents, at the Military Appreciation Ceremony on November 5, 2025, at Soldier's Best Friend.&nbsp;Light breakfast will be provided.</p>
<br />
<u><strong>Event Details:</strong></u>

<ul>
	<li>November 5, 2025</li>
	<li>Soldier's Best Friend (14505 N. 75th Avenue, Peoria, AZ 85381)</li>
	<li>7:30am: Check-in &amp; Networking</li>
	<li>8:00&ndash;9:00am: Program</li>
	<li>Cost: $25 for attendance per individual</li>
</ul>

<p><em>Parking for members and guests will be available in the church parking lot adjacent to the venue. Directional signage will be clearly displayed.</em><br />
<br />
Please use this <a href="https://www.cognitoforms.com/GlendaleChamber1/_2025GlendaleChamberMilitaryAppreciationCeremonyNominationForm">form </a>to nominate someone who deserves to be recognized for their dedication to the community. Deadline for nominations is <strong>September 30, 2025</strong>. All nominees must be active-duty personnel, including national guard and reserves, or their dependents. Please specify the estimated number of hours dedicated to each duty, and describe the impact of their contributions, particularly in community service activities.<br />
<br />
<a href="https://www.cognitoforms.com/GlendaleChamber1/_2025GlendaleChamberMilitaryAppreciationCeremonyNominationForm"><span style="color:#FF0000"><strong>NOMINATION FORM HERE</strong></span></a><br />
<br />
<u><strong>Sponsorship Opportunities:</strong></u><br />
<br />
<strong>Table Sponsors:&nbsp;$500</strong><br />
- Table of Six (6)<br />
- Recognition on the event program<br />
<br />
<strong>Platinum Sponsors: $1,000</strong><br />
- Four (4) Seats<br />
- Podium recognition at event<br />
-&nbsp;Company logo featured on event marketing:<br />
&nbsp;&nbsp;&nbsp;&nbsp;-&nbsp;Chamber website<br />
&nbsp; &nbsp; - Event flyer<br />
&nbsp; &nbsp; - Social Media links<br />
<br />
<strong>Presenting Sponsors: $3,000</strong><br />
- Table of Eight (8)<br />
- Company representative to speak 2-3 minutes at event<br />
- Podium recognition at event<br />
- Company logo featured on event marketing:<br />
&nbsp; &nbsp; &nbsp;- Chamber website<br />
&nbsp; &nbsp; &nbsp;- Event flyer<br />
&nbsp; &nbsp; &nbsp;- Featured in advertising for event<br />
&nbsp; &nbsp; &nbsp;- Social Media links<br />
&nbsp; &nbsp; &nbsp;- Featured in eblasts to membership</p>
<br />Location:<br />Soldier's Best Friend<br />14505 N. 75th Avenue<br />Peoria, AZ 85381
PRIORITY:3
TRANSP:TRANSPARENT
BEGIN:VALARM
TRIGGER:-PT5M
ACTION:DISPLAY
DESCRIPTION:Reminder
END:VALARM
END:VEVENT
END:VCALENDAR
