BEGIN:VCALENDAR
VERSION:2.0
CALSCALE:GREGORIAN
METHOD:PUBLISH
PRODID://RRCC//1387622
BEGIN:VEVENT
DTSTAMP:20260420T032800
VTIMEZONE:America/Chicago
DTSTART:20251108T150000Z
DTEND:20251108T200000Z
UID:1387622
SUMMARY:Holiday Bazaar
LOCATION:, TX
DESCRIPTION:Holiday Bazaar\n\n11/08/25 09:00 AM CST\n - 11/08/25 02:00 PM CST\Description:\nMake a day of it and get your shopping started at the Holiday Bazaar at the Avery Missionary Baptist Church in Avery, Texas on November 8, 2025 from 9:00 a.m. to 2:00 p.m.!\n\nHomemade items, holiday decor and much more! \n\nLunch: $10.00 with tea and dessert included!\n\nContact Cheryl Megason for booth registration\n903-219-1497\n$25.00 to reserve a booth \n\n 
X-ALT-DESC;FMTTYPE=text/html:Holiday Bazaar<br /><br />11/08/25 09:00 AM CST - 11/08/25 02:00 PM CST<br />Description:<br />Make a day of it and get your shopping started at the Holiday Bazaar at the Avery Missionary Baptist Church in Avery, Texas on November 8, 2025 from 9:00 a.m. to 2:00 p.m.!<br />
<br />
Homemade items, holiday decor and much more!&nbsp;<br />
<br />
Lunch: $10.00 with tea and dessert included!<br />
<br />
Contact Cheryl Megason for booth registration<br />
903-219-1497<br />
$25.00 to reserve a booth&nbsp;<br />
<br />
&nbsp;
PRIORITY:3
TRANSP:TRANSPARENT
BEGIN:VALARM
TRIGGER:-PT5M
ACTION:DISPLAY
DESCRIPTION:Reminder
END:VALARM
END:VEVENT
END:VCALENDAR
