BEGIN:VCALENDAR
VERSION:2.0
CALSCALE:GREGORIAN
METHOD:PUBLISH
PRODID://CCCC//1387784
BEGIN:VEVENT
DTSTAMP:20260424T134134
VTIMEZONE:America/Los_Angeles
DTSTART:20251127T160000Z
DTEND:20251128T000000Z
UID:1387784
SUMMARY:Thanksgiving 
LOCATION:Colusa County Chamber of Commerce, 2963 Davison Ct, Colusa, CA, 95932
DESCRIPTION:Thanksgiving \n\n11/27/25 08:00 AM PST\n - 11/27/25 04:00 PM PST\Description:\nThanksgiving The Chamber will be closed for the Holiday!\Location:\nColusa County Chamber of Commerce\n2963 Davison Ct\nColusa, CA 95932
X-ALT-DESC;FMTTYPE=text/html:Thanksgiving <br /><br />11/27/25 08:00 AM PST - 11/27/25 04:00 PM PST<br />Description:<br />Thanksgiving The Chamber will be closed for the Holiday!<br />Location:<br />Colusa County Chamber of Commerce<br />2963 Davison Ct<br />Colusa, CA 95932
PRIORITY:3
TRANSP:TRANSPARENT
BEGIN:VALARM
TRIGGER:-PT5M
ACTION:DISPLAY
DESCRIPTION:Reminder
END:VALARM
END:VEVENT
END:VCALENDAR
