BEGIN:VCALENDAR
VERSION:2.0
CALSCALE:GREGORIAN
METHOD:PUBLISH
PRODID://CCCC//1387788
BEGIN:VEVENT
DTSTAMP:20260424T123928
VTIMEZONE:America/Los_Angeles
DTSTART:20251205T160000Z
DTEND:20251206T000000Z
UID:1387788
SUMMARY:Christmas Tyme Colusa 
LOCATION:Colusa County Chamber of Commerce, 2963 Davison Ct, Colusa, CA, 95932
DESCRIPTION:Christmas Tyme Colusa \n\n12/05/25 08:00 AM PST\n - 12/05/25 04:00 PM PST\Description:\nChristmas Tyme Colusa The Chamber will be closed! Please plan ahead, thank you!\Location:\nColusa County Chamber of Commerce\n2963 Davison Ct\nColusa, CA 95932
X-ALT-DESC;FMTTYPE=text/html:Christmas Tyme Colusa <br /><br />12/05/25 08:00 AM PST - 12/05/25 04:00 PM PST<br />Description:<br />Christmas Tyme&nbsp;Colusa&nbsp;The Chamber will be closed! Please plan ahead, thank you!<br />Location:<br />Colusa County Chamber of Commerce<br />2963 Davison Ct<br />Colusa, CA 95932
PRIORITY:3
TRANSP:TRANSPARENT
BEGIN:VALARM
TRIGGER:-PT5M
ACTION:DISPLAY
DESCRIPTION:Reminder
END:VALARM
END:VEVENT
END:VCALENDAR
