BEGIN:VCALENDAR
VERSION:2.0
CALSCALE:GREGORIAN
METHOD:PUBLISH
PRODID://CCCC//1387792
BEGIN:VEVENT
DTSTAMP:20260424T123902
VTIMEZONE:America/Los_Angeles
DTSTART:20251225T160000Z
DTEND:20251226T000000Z
UID:1387792
SUMMARY:Christmas Day
LOCATION:Colusa County Chamber of Commerce, 2963 Davison Ct, Colusa, CA, 95932
DESCRIPTION:Christmas Day\n\n12/25/25 08:00 AM PST\n - 12/25/25 04:00 PM PST\Description:\nChristmas Day The Chamber will be closed for the Holiday!\Location:\nColusa County Chamber of Commerce\n2963 Davison Ct\nColusa, CA 95932
X-ALT-DESC;FMTTYPE=text/html:Christmas Day<br /><br />12/25/25 08:00 AM PST - 12/25/25 04:00 PM PST<br />Description:<br />Christmas Day The Chamber will be closed for the Holiday!<br />Location:<br />Colusa County Chamber of Commerce<br />2963 Davison Ct<br />Colusa, CA 95932
PRIORITY:3
TRANSP:TRANSPARENT
BEGIN:VALARM
TRIGGER:-PT5M
ACTION:DISPLAY
DESCRIPTION:Reminder
END:VALARM
END:VEVENT
END:VCALENDAR
