BEGIN:VCALENDAR
VERSION:2.0
CALSCALE:GREGORIAN
METHOD:PUBLISH
PRODID://CCCC//1387793
BEGIN:VEVENT
DTSTAMP:20260424T123902
VTIMEZONE:America/Los_Angeles
DTSTART:20251231T200000Z
DTEND:20260101T000000Z
UID:1387793
SUMMARY:New Years Eve
LOCATION:Colusa County Chamber of Commerce, 2963 Davison Ct, Colusa, CA, 95932
DESCRIPTION:New Years Eve\n\n12/31/25 12:00 PM PST\n - 12/31/25 04:00 PM PST\Description:\nNew Years Eve The Chamber will be closing at noon. Please plan ahead, Thank you!\Location:\nColusa County Chamber of Commerce\n2963 Davison Ct\nColusa, CA 95932
X-ALT-DESC;FMTTYPE=text/html:New Years Eve<br /><br />12/31/25 12:00 PM PST - 12/31/25 04:00 PM PST<br />Description:<br />New Years Eve The Chamber will be closing at noon. Please plan ahead, Thank you!<br />Location:<br />Colusa County Chamber of Commerce<br />2963 Davison Ct<br />Colusa, CA 95932
PRIORITY:3
TRANSP:TRANSPARENT
BEGIN:VALARM
TRIGGER:-PT5M
ACTION:DISPLAY
DESCRIPTION:Reminder
END:VALARM
END:VEVENT
END:VCALENDAR
