BEGIN:VCALENDAR
VERSION:2.0
CALSCALE:GREGORIAN
METHOD:PUBLISH
PRODID://CCCC//1387797
BEGIN:VEVENT
DTSTAMP:20260424T112912
VTIMEZONE:America/Los_Angeles
DTSTART:20260101T160000Z
DTEND:20260102T000000Z
UID:1387797
SUMMARY:New Year's Day
LOCATION:Colusa County Chamber of Commerce, 2963 Davison Ct, Colusa, CA, 95932
DESCRIPTION:New Year's Day\n\n01/01/26 08:00 AM PST\n - 01/01/26 04:00 PM PST\Description:\nNew Year's Day The chamber will be Closed for the Holiday!\Location:\nColusa County Chamber of Commerce\n2963 Davison Ct\nColusa, CA 95932
X-ALT-DESC;FMTTYPE=text/html:New Year's Day<br /><br />01/01/26 08:00 AM PST - 01/01/26 04:00 PM PST<br />Description:<br />New Year's Day The chamber will be Closed for the Holiday!<br />Location:<br />Colusa County Chamber of Commerce<br />2963 Davison Ct<br />Colusa, CA 95932
PRIORITY:3
TRANSP:TRANSPARENT
BEGIN:VALARM
TRIGGER:-PT5M
ACTION:DISPLAY
DESCRIPTION:Reminder
END:VALARM
END:VEVENT
END:VCALENDAR
