BEGIN:VCALENDAR
VERSION:2.0
CALSCALE:GREGORIAN
METHOD:PUBLISH
PRODID://CCCC//1387799
BEGIN:VEVENT
DTSTAMP:20260424T110745
VTIMEZONE:America/Los_Angeles
DTSTART:20260119T160000Z
DTEND:20260120T000000Z
UID:1387799
SUMMARY:Martin Luther King Birthday
LOCATION:Colusa County Chamber of Commerce, 2963 Davison Ct, Colusa, CA, 95932
DESCRIPTION:Martin Luther King Birthday\n\n01/19/26 08:00 AM PST\n - 01/19/26 04:00 PM PST\Description:\nM.L.K. Birthday The Chamber will be closed for the Holiday!\Location:\nColusa County Chamber of Commerce\n2963 Davison Ct\nColusa, CA 95932
X-ALT-DESC;FMTTYPE=text/html:Martin Luther King Birthday<br /><br />01/19/26 08:00 AM PST - 01/19/26 04:00 PM PST<br />Description:<br />M.L.K. Birthday The Chamber will be closed for the Holiday!<br />Location:<br />Colusa County Chamber of Commerce<br />2963 Davison Ct<br />Colusa, CA 95932
PRIORITY:3
TRANSP:TRANSPARENT
BEGIN:VALARM
TRIGGER:-PT5M
ACTION:DISPLAY
DESCRIPTION:Reminder
END:VALARM
END:VEVENT
END:VCALENDAR
