BEGIN:VCALENDAR
VERSION:2.0
CALSCALE:GREGORIAN
METHOD:PUBLISH
PRODID://CCCC//1387802
BEGIN:VEVENT
DTSTAMP:20260424T095105
VTIMEZONE:America/Los_Angeles
DTSTART:20260216T160000Z
DTEND:20260217T000000Z
UID:1387802
SUMMARY:President's Day
LOCATION:Colusa County Chamber of Commerce, 2963 Davison Ct, Colusa, CA, 95932
DESCRIPTION:President's Day\n\n02/16/26 08:00 AM PST\n - 02/16/26 04:00 PM PST\Description:\nPresident's Day The Chamber will be closed for the Holiday!\Location:\nColusa County Chamber of Commerce\n2963 Davison Ct\nColusa, CA 95932
X-ALT-DESC;FMTTYPE=text/html:President's Day<br /><br />02/16/26 08:00 AM PST - 02/16/26 04:00 PM PST<br />Description:<br />President's Day The Chamber will be closed for the Holiday!<br />Location:<br />Colusa County Chamber of Commerce<br />2963 Davison Ct<br />Colusa, CA 95932
PRIORITY:3
TRANSP:TRANSPARENT
BEGIN:VALARM
TRIGGER:-PT5M
ACTION:DISPLAY
DESCRIPTION:Reminder
END:VALARM
END:VEVENT
END:VCALENDAR
