BEGIN:VCALENDAR
VERSION:2.0
CALSCALE:GREGORIAN
METHOD:PUBLISH
PRODID://CCCC//1387839
BEGIN:VEVENT
DTSTAMP:20260424T150119
VTIMEZONE:America/Los_Angeles
DTSTART:20261127T160000Z
DTEND:20261128T000000Z
UID:1387839
SUMMARY:Day After Thanksgiving 
LOCATION:Colusa County Chamber of Commerce, 2963 Davison Ct, Colusa, CA, 95932
DESCRIPTION:Day After Thanksgiving \n\n11/27/26 08:00 AM PST\n - 11/27/26 04:00 PM PST\Description:\nDay After Thanksgiving The Chamber will be closed for the Holiday!\Location:\nColusa County Chamber of Commerce\n2963 Davison Ct\nColusa, CA 95932
X-ALT-DESC;FMTTYPE=text/html:Day After Thanksgiving <br /><br />11/27/26 08:00 AM PST - 11/27/26 04:00 PM PST<br />Description:<br />Day After Thanksgiving The Chamber will be closed for the Holiday!<br />Location:<br />Colusa County Chamber of Commerce<br />2963 Davison Ct<br />Colusa, CA 95932
PRIORITY:3
TRANSP:TRANSPARENT
BEGIN:VALARM
TRIGGER:-PT5M
ACTION:DISPLAY
DESCRIPTION:Reminder
END:VALARM
END:VEVENT
END:VCALENDAR
