BEGIN:VCALENDAR
VERSION:2.0
CALSCALE:GREGORIAN
METHOD:PUBLISH
PRODID://CCCC//1387849
BEGIN:VEVENT
DTSTAMP:20260424T134240
VTIMEZONE:America/Los_Angeles
DTSTART:20261231T200000Z
DTEND:20270101T000000Z
UID:1387849
SUMMARY:New Year's Eve
LOCATION:Colusa County Chamber of Commerce, 2963 Davison Ct, Colusa, CA, 95932
DESCRIPTION:New Year's Eve\n\n12/31/26 12:00 PM PST\n - 12/31/26 04:00 PM PST\Description:\nNew Year's Eve The Chamber will be closing at noon! Please plan ahead of time, thank you.\Location:\nColusa County Chamber of Commerce\n2963 Davison Ct\nColusa, CA 95932
X-ALT-DESC;FMTTYPE=text/html:New Year's Eve<br /><br />12/31/26 12:00 PM PST - 12/31/26 04:00 PM PST<br />Description:<br />New Year's Eve The Chamber will be closing at noon! Please plan ahead of time, thank you.<br />Location:<br />Colusa County Chamber of Commerce<br />2963 Davison Ct<br />Colusa, CA 95932
PRIORITY:3
TRANSP:TRANSPARENT
BEGIN:VALARM
TRIGGER:-PT5M
ACTION:DISPLAY
DESCRIPTION:Reminder
END:VALARM
END:VEVENT
END:VCALENDAR
