BEGIN:VCALENDAR
VERSION:2.0
CALSCALE:GREGORIAN
METHOD:PUBLISH
PRODID://JCOC//1387944
BEGIN:VEVENT
DTSTAMP:20260424T150120
VTIMEZONE:America/Chicago
DTSTART:20251220T150000Z
DTEND:20251220T220000Z
UID:1387944
SUMMARY:Discover Jenks Hometown Holiday Trolley 2025
LOCATION:Jenks
DESCRIPTION:Discover Jenks Hometown Holiday Trolley 2025\n\n12/20/25 09:00 AM CST\n - 12/20/25 04:00 PM CST\Description:\nHop on the Holiday Trolley presented by Discover Jenks, running for three Saturdays in December! The trolley will make continuous stops at key destinations around Jenks, making it easy to explore and shop local this season.\n \nTrolley Schedule:\nSaturday, December 6 — 9 a.m. to 4 p.m.\nSaturday, December 13 — 11 a.m. to 7 p.m.\nSaturday, December 20 — 9 a.m. to 4 p.m.\n \nStops include the Oklahoma Aquarium, Tulsa Premium Outlets, Jenks Riverwalk, Jenks Main Street, Downtown Commons Park. The trolley will also stop at designated pick-up and drop-off locations in parking areas throughout Jenks.\n \nThis free service offers a convenient way to explore Jenks and visit local attractions.\n \n View the full route map here: https://map.proxi.co/r/39e9f1muGgBOaKBiJgA3\Location:\nJenks\n\n,
X-ALT-DESC;FMTTYPE=text/html:Discover Jenks Hometown Holiday Trolley 2025<br /><br />12/20/25 09:00 AM CST - 12/20/25 04:00 PM CST<br />Description:<br />Hop on the Holiday Trolley presented by Discover Jenks, running for three Saturdays in December! The trolley will make continuous stops at key destinations around Jenks, making it easy to explore and shop local this season.<br />
&nbsp;<br />
Trolley Schedule:<br />
Saturday, December 6 &mdash; 9 a.m. to 4 p.m.<br />
Saturday, December 13 &mdash; 11 a.m. to 7 p.m.<br />
Saturday, December 20 &mdash; 9 a.m. to 4 p.m.<br />
&nbsp;<br />
Stops include the Oklahoma Aquarium, Tulsa Premium Outlets, Jenks Riverwalk, Jenks Main Street, Downtown Commons Park. The trolley will also stop at designated pick-up and drop-off locations in parking areas throughout Jenks.<br />
&nbsp;<br />
This free service offers a convenient way to explore Jenks and visit local attractions.<br />
&nbsp;<br />
&nbsp;View the full route map here:&nbsp;<a href="https://map.proxi.co/r/39e9f1muGgBOaKBiJgA3?fbclid=IwZXh0bgNhZW0CMTAAYnJpZBExNG56NXl5YkVjeFMxWUtvRHNydGMGYXBwX2lkEDIyMjAzOTE3ODgyMDA4OTIAAR5fHw3rYmsdfcUsHcve3vwNrMvbeRD9NsZYI8goz905NsTyy80Z6vd_1NJJWA_aem_CEmokFGmckByZprg0CEikQ" target="_blank"><strong>https://map.proxi.co/r/39e9f1muGgBOaKBiJgA3</strong></a><br />Location:<br />Jenks<br /><br />,  
PRIORITY:3
TRANSP:TRANSPARENT
BEGIN:VALARM
TRIGGER:-PT5M
ACTION:DISPLAY
DESCRIPTION:Reminder
END:VALARM
END:VEVENT
END:VCALENDAR
