BEGIN:VCALENDAR
VERSION:2.0
CALSCALE:GREGORIAN
METHOD:PUBLISH
PRODID://JCOC//1387949
BEGIN:VEVENT
DTSTAMP:20260424T150057
VTIMEZONE:America/Chicago
DTSTART:20251220T200000Z
DTEND:20251220T220000Z
UID:1387949
SUMMARY:Santa by the Sea
LOCATION:, 300 Aquarium Dr, Jenks, OK, 74037
DESCRIPTION:Santa by the Sea\n\n12/20/25 02:00 PM CST\n - 12/20/25 04:00 PM CST\Description:\nDive into the Holiday Spirit with Santa at the Oklahoma Aquarium!\nThis December, Santa’s trading his sleigh for fins and diving into the Polynesian Reef!  Bring the whole family and experience the magic of the season—underwater!\n2025 Dive Dates:\nFriday, December 12, 2:00 pm – 4:00 pm\nSaturday, December 13, 2:00 pm – 4:00 pm\nSunday, December 14, 2:00 pm – 4:00 pm\nFriday, December 19, 2:00 pm – 4:00 pm\nSaturday, December 20, 2:00 pm – 4:00 pm\nSunday, December 21, 2:00 pm – 4:00 pm\n\n Snap unforgettable pics of Santa as he swims with the fish! This fin-tastic holiday adventure is FREE for members or included with daily admission.\nDon’t miss Santa’s underwater escapade—catch the jolly fellow live at OKAQ!\Location:\n\n300 Aquarium Dr\nJenks, OK 74037
X-ALT-DESC;FMTTYPE=text/html:Santa by the Sea<br /><br />12/20/25 02:00 PM CST - 12/20/25 04:00 PM CST<br />Description:<br />Dive into the Holiday Spirit with Santa at the Oklahoma Aquarium!<br />
This December, Santa&rsquo;s trading his sleigh for fins and diving into the Polynesian Reef!&nbsp;&nbsp;Bring the whole family and experience the magic of the season&mdash;underwater!<br />
2025 Dive Dates:<br />
Friday, December 12, 2:00 pm &ndash; 4:00 pm<br />
Saturday, December 13, 2:00 pm &ndash; 4:00 pm<br />
Sunday, December 14, 2:00 pm &ndash; 4:00 pm<br />
Friday, December 19, 2:00 pm &ndash; 4:00 pm<br />
Saturday, December 20, 2:00 pm &ndash; 4:00 pm<br />
Sunday, December 21, 2:00 pm &ndash; 4:00 pm<br />
<br />
&nbsp;Snap unforgettable pics of Santa as he swims with the fish! This fin-tastic holiday adventure is FREE for members or included with daily admission.<br />
Don&rsquo;t miss Santa&rsquo;s underwater escapade&mdash;catch the jolly fellow live at OKAQ!<br />Location:<br /><br />300 Aquarium Dr<br />Jenks, OK 74037
PRIORITY:3
TRANSP:TRANSPARENT
BEGIN:VALARM
TRIGGER:-PT5M
ACTION:DISPLAY
DESCRIPTION:Reminder
END:VALARM
END:VEVENT
END:VCALENDAR
