BEGIN:VCALENDAR
VERSION:2.0
CALSCALE:GREGORIAN
METHOD:PUBLISH
PRODID://JCOC//1387951
BEGIN:VEVENT
DTSTAMP:20260424T150119
VTIMEZONE:America/Chicago
DTSTART:20251203T170000Z
DTEND:20251203T183000Z
UID:1387951
SUMMARY:Enchanted Story Time
LOCATION:, 300 Aquarium Dr, Jenks, OK, 74037
DESCRIPTION:Enchanted Story Time\n\n12/03/25 11:00 AM CST\n - 12/03/25 12:30 PM CST\Description:\nEnchanted Story Time at the Oklahoma Aquarium \nDive into a world of wonder the first Wednesday every month with our Enchanted Tide Story Time featuring our one of our Enchanted Tide Mermaid friends! Join us for a magical storytelling adventure every first Wednesday at Sea Turtle Island from 11:00 AM to 12:30 PM. Each month we will have a different character joining us for stories, songs & more!\nBring your little ones and let their imaginations soar while making memories to last a lifetime!\nDon't miss out on this captivating experience! Enchanted Story Time is FREE for members or with daily admission!\nWhen: First Wednesday of the Month\n Time: 11:00 AM - 12:30 PM\nWhere: Oklahoma Aquarium\nSee you there for a MERmazing time! \nMembers do not need a ticket. This is included with daily admission.\Location:\n\n300 Aquarium Dr\nJenks, OK 74037
X-ALT-DESC;FMTTYPE=text/html:Enchanted Story Time<br /><br />12/03/25 11:00 AM CST - 12/03/25 12:30 PM CST<br />Description:<br />Enchanted Story Time at the Oklahoma Aquarium&nbsp;<br />
Dive into a world of wonder the first Wednesday every month with our Enchanted Tide Story Time featuring our one of our Enchanted Tide Mermaid friends! Join us for a magical storytelling adventure every first Wednesday at Sea Turtle Island from 11:00 AM to 12:30 PM.&nbsp;Each month we will have a different character joining us for stories, songs &amp; more!<br />
Bring your little ones and let their imaginations soar while making memories to last a lifetime!<br />
Don't miss out on this captivating experience! Enchanted Story Time is FREE for members or with daily admission!<br />
When: First Wednesday of the Month<br />
&nbsp;Time: 11:00 AM - 12:30 PM<br />
Where: Oklahoma Aquarium<br />
See you there for a MERmazing time!&nbsp;<br />
Members do not need a ticket. This is included with daily admission.<br />Location:<br /><br />300 Aquarium Dr<br />Jenks, OK 74037
PRIORITY:3
TRANSP:TRANSPARENT
BEGIN:VALARM
TRIGGER:-PT5M
ACTION:DISPLAY
DESCRIPTION:Reminder
END:VALARM
END:VEVENT
END:VCALENDAR
