BEGIN:VCALENDAR
VERSION:2.0
CALSCALE:GREGORIAN
METHOD:PUBLISH
PRODID://TSCC//1388138
BEGIN:VEVENT
DTSTAMP:20260424T160030
VTIMEZONE:America/Denver
DTSTART:20251118T184500Z
DTEND:20251118T200000Z
UID:1388138
SUMMARY:Battle of the Pizzas
LOCATION:Springville Library, 45 S Main St, Springville, UT, 84663
DESCRIPTION:Battle of the Pizzas\n\n11/18/25 11:45 AM MST\n - 11/18/25 01:00 PM MST\Description:\nEvent Timing: Tuesday, November 18th @ Noon\nEvent Address: Springville Library, 45 S. Main St.\n\nJoin us for the 2025 Battle of the Pizzas, where local pizza masters compete for top honors—and our business community comes together to support local veterans and military families.\n\nThis year, your slice of pizza makes a difference. Each attendee will “vote” for their favorite pizza by donating dollars—and every dollar counts as one vote. All proceeds will benefit local veterans and military families in need.\nPizzerias will bring their best four pizzas (or more if you’re feeling competitive), cut into smaller slices so everyone can sample. \n\nCategories:\n     • “Don’t Cut Off the Crust: Best Crust”\n     • “Easy as Pie, PIZZA PIE!: Most Memorable”\n     • “That’s a Spicy Meatball: Best Use of Spices”\n     • “World Traveler: Overall Best for Presentation, Creativity, and Taste”\n\nLet’s gather together, raise funds, raise spirits, and find out whose pizza reigns supreme.\n\n*Bring a friend to introduce to the chamber, and get an extra drawing entry. \Location:\nSpringville Library\n45 S Main St\nSpringville, UT 84663
X-ALT-DESC;FMTTYPE=text/html:Battle of the Pizzas<br /><br />11/18/25 11:45 AM MST - 11/18/25 01:00 PM MST<br />Description:<br />Event Timing: Tuesday, November 18th @ Noon<br />
Event Address: Springville Library, 45 S. Main St.<br />
<br />
Join us for the 2025 Battle of the Pizzas, where local pizza masters compete for top honors&mdash;and our business community comes together to support local veterans and military families.<br />
<br />
This year, your slice of pizza makes a difference. Each attendee will &ldquo;vote&rdquo; for their favorite pizza by donating dollars&mdash;and every dollar counts as one vote. All proceeds will benefit local veterans and military families in need.<br />
Pizzerias will bring their best four pizzas (or more if you&rsquo;re feeling competitive), cut into smaller slices so everyone can sample.&nbsp;<br />
<br />
Categories:<br />
&nbsp; &nbsp; &nbsp;&bull; &ldquo;Don&rsquo;t Cut Off the Crust: Best Crust&rdquo;<br />
&nbsp; &nbsp; &nbsp;&bull; &ldquo;Easy as Pie, PIZZA PIE!: Most Memorable&rdquo;<br />
&nbsp; &nbsp; &nbsp;&bull; &ldquo;That&rsquo;s a Spicy Meatball: Best Use of Spices&rdquo;<br />
&nbsp; &nbsp; &nbsp;&bull; &ldquo;World Traveler: Overall Best for Presentation, Creativity, and Taste&rdquo;<br />
<br />
Let&rsquo;s gather together, raise funds, raise spirits, and find out whose pizza reigns supreme.<br />
<br />
*Bring a friend to introduce to the chamber, and get an extra drawing entry.&nbsp;<br />Location:<br />Springville Library<br />45 S Main St<br />Springville, UT 84663
PRIORITY:3
TRANSP:TRANSPARENT
BEGIN:VALARM
TRIGGER:-PT5M
ACTION:DISPLAY
DESCRIPTION:Reminder
END:VALARM
END:VEVENT
END:VCALENDAR
