BEGIN:VCALENDAR
VERSION:2.0
CALSCALE:GREGORIAN
METHOD:PUBLISH
PRODID://JCOC//1388177
BEGIN:VEVENT
DTSTAMP:20260424T160314
VTIMEZONE:America/Chicago
DTSTART:20251122T133000Z
DTEND:20251122T160000Z
UID:1388177
SUMMARY:Optimist Club Pancake Breakfast!
LOCATION:City Hall Community Roo, 211 N Elm Street, Jenks, OK, 74037
DESCRIPTION:Optimist Club Pancake Breakfast!\n\n11/22/25 07:30 AM CST\n - 11/22/25 10:00 AM CST\Description:\nEveryone’s favorite Pancake Breakfast returns on Nov. 22! The Jenks Optimist Club will serve breakfast in the Jenks City Hall Community Room from 7:30 a.m. – 10 a.m., followed by the Jenks Christmas Parade.\n \nThe cost is $10 per person, which includes pancakes, sausage, and drinks. Profits raised will go toward the Optimist Club’s annual Christmas Basket donations for families in our school system. Your support will go toward in-need families enjoying a nice Christmas meal.\n \nJenks City Hall is located at 211 N. Elm St. in Jenks. Cash or Venmo will be accepted at the door. \Details:\nEveryone’s favorite Pancake Breakfast returns on Nov. 22! The Jenks Optimist Club will serve breakfast in the Jenks City Hall Community Room from 7:30 a.m. – 10 a.m., followed by the Jenks Christmas Parade.\n \nThe cost is $10 per person, which includes pancakes, sausage, and drinks. Profits raised will go toward the Optimist Club’s annual Christmas Basket donations for families in our school system. Your support will go toward in-need families enjoying a nice Christmas meal.\n \nJenks City Hall is located at 211 N. Elm St. in Jenks. Cash or Venmo will be accepted at the door. \Location:\nCity Hall Community Roo\n211 N Elm Street\nJenks, OK 74037
X-ALT-DESC;FMTTYPE=text/html:Optimist Club Pancake Breakfast!<br /><br />11/22/25 07:30 AM CST - 11/22/25 10:00 AM CST<br />Description:<br />Everyone&rsquo;s favorite Pancake Breakfast returns on Nov. 22! The Jenks Optimist Club will serve breakfast in the Jenks City Hall Community Room from 7:30 a.m. &ndash; 10 a.m., followed by the Jenks Christmas Parade.<br />
&nbsp;<br />
The cost is $10 per person, which includes pancakes, sausage, and drinks. Profits raised will go toward the Optimist Club&rsquo;s annual Christmas Basket donations for families in our school system. Your support will go toward in-need families enjoying a nice Christmas meal.<br />
&nbsp;<br />
Jenks City Hall is located at 211 N. Elm St. in Jenks. Cash or Venmo will be accepted at the door.&nbsp;<br />Details:<br />Everyone&rsquo;s favorite Pancake Breakfast returns on Nov. 22! The Jenks Optimist Club will serve breakfast in the Jenks City Hall Community Room from 7:30 a.m. &ndash; 10 a.m., followed by the Jenks Christmas Parade.<br />
&nbsp;<br />
The cost is $10 per person, which includes pancakes, sausage, and drinks. Profits raised will go toward the Optimist Club&rsquo;s annual Christmas Basket donations for families in our school system. Your support will go toward in-need families enjoying a nice Christmas meal.<br />
&nbsp;<br />
Jenks City Hall is located at 211 N. Elm St. in Jenks. Cash or Venmo will be accepted at the door.&nbsp;<br />Location:<br />City Hall Community Roo<br />211 N Elm Street<br />Jenks, OK 74037
PRIORITY:3
TRANSP:TRANSPARENT
BEGIN:VALARM
TRIGGER:-PT5M
ACTION:DISPLAY
DESCRIPTION:Reminder
END:VALARM
END:VEVENT
END:VCALENDAR
