BEGIN:VCALENDAR
VERSION:2.0
CALSCALE:GREGORIAN
METHOD:PUBLISH
PRODID://JCOC//1388532
BEGIN:VEVENT
DTSTAMP:20260424T160240
VTIMEZONE:America/Chicago
DTSTART:20251113T150000Z
DTEND:20251113T160000Z
UID:1388532
SUMMARY:Morning Mingle
LOCATION:Jenks Chamber of Commerce , 161 S. Riverfront Drive, Jenks, OK, 74037
DESCRIPTION:Morning Mingle\n\n11/13/25 09:00 AM CST\n - 11/13/25 10:00 AM CST\Description:\nThe Jenks Chamber invites you to Morning Mingle, a casual gathering with coffee and conversation with fellow members, community partners, and Chamber staff. Join us this Thursday, November 13th at 9 AM at the Jenks Chamber office, 161 S. Riverfront Dr, Suite 112.\Location:\nJenks Chamber of Commerce \n161 S. Riverfront Drive\nJenks, OK 74037
X-ALT-DESC;FMTTYPE=text/html:Morning Mingle<br /><br />11/13/25 09:00 AM CST - 11/13/25 10:00 AM CST<br />Description:<br />The Jenks Chamber invites you to Morning Mingle, a casual gathering with coffee and conversation with fellow members, community partners, and Chamber staff. Join us this Thursday, November 13th at 9 AM at the Jenks Chamber office, 161 S. Riverfront Dr, Suite 112.<br />Location:<br />Jenks Chamber of Commerce <br />161 S. Riverfront Drive<br />Jenks, OK 74037
PRIORITY:3
TRANSP:TRANSPARENT
BEGIN:VALARM
TRIGGER:-PT5M
ACTION:DISPLAY
DESCRIPTION:Reminder
END:VALARM
END:VEVENT
END:VCALENDAR
