BEGIN:VCALENDAR
VERSION:2.0
CALSCALE:GREGORIAN
METHOD:PUBLISH
PRODID://OCON//1388548
BEGIN:VEVENT
DTSTAMP:20260424T143218
VTIMEZONE:America/New_York
DTSTART:20251203T130000Z
DTEND:20251203T140000Z
UID:1388548
SUMMARY:8AM Coffee | Hosted by BankSouth
LOCATION:BankSouth, 7911 Macon Highway, Watkinsville, GA, 30677
DESCRIPTION:8AM Coffee | Hosted by BankSouth\n\n12/03/25 08:00 AM EST\n - 12/03/25 09:00 AM EST\Description:\nJoin us for an 8AM Coffee - an open networking event held at one of our amazing partners businesses. \Location:\nBankSouth\n7911 Macon Highway\nWatkinsville, GA 30677
X-ALT-DESC;FMTTYPE=text/html:8AM Coffee | Hosted by BankSouth<br /><br />12/03/25 08:00 AM EST - 12/03/25 09:00 AM EST<br />Description:<br />Join us for an 8AM Coffee - an open networking event held at one of our amazing partners businesses.&nbsp;<br />Location:<br />BankSouth<br />7911 Macon Highway<br />Watkinsville, GA 30677
PRIORITY:3
TRANSP:TRANSPARENT
BEGIN:VALARM
TRIGGER:-PT5M
ACTION:DISPLAY
DESCRIPTION:Reminder
END:VALARM
END:VEVENT
END:VCALENDAR
