BEGIN:VCALENDAR
VERSION:2.0
CALSCALE:GREGORIAN
METHOD:PUBLISH
PRODID://TSCC//1388615
BEGIN:VEVENT
DTSTAMP:20260424T150120
VTIMEZONE:America/Denver
DTSTART:20251206T153000Z
DTEND:20251206T173000Z
UID:1388615
SUMMARY:Breakfast with Santa - Christmas at Northridge
LOCATION:Northridge Valley Event Center, 975 East Northridge Dr. , Mapleton, UT, 84664
DESCRIPTION:Breakfast with Santa - Christmas at Northridge\n\n12/06/25 08:30 AM MST\n - 12/06/25 10:30 AM MST\Description:\nJoin us for a jolly morning filled with crepes, laughter, and a special visit from the man in red at Breakfast with Santa at Northridge\nChristmas at Northridge 2025 Breakfast with Santa\n\nJoin NVA for a delightful morning of festive fun at Christmas at Northridge 2025 Breakfast with Santa! Get ready to kickstart the holiday season with a jolly breakfast alongside Santa Claus himself.\n\nThis exciting event will take place on Saturday, December 6, 2025, starting at 8:30 AM in the heartwarming location of Northridge Valley Event Center, 975 East Northridge Drive, Mapleton, UT 84664.\n\nCome and experience the magic as everyone gathers to celebrate the most wonderful time of the year. Bring your family and friends to enjoy a scrumptious crepe bar breakfast, complete with all your favorite holiday treats. While you savor the delicious food, Santa will be spreading cheer and joy, ready to listen to your Christmas wishes.\n\Location:\nNorthridge Valley Event Center\n975 East Northridge Dr. \nMapleton, UT 84664
X-ALT-DESC;FMTTYPE=text/html:Breakfast with Santa - Christmas at Northridge<br /><br />12/06/25 08:30 AM MST - 12/06/25 10:30 AM MST<br />Description:<br />Join us for a jolly morning filled with crepes, laughter, and a special visit from the man in red at Breakfast with Santa at Northridge
<p><strong><strong>Christmas at Northridge 2025 Breakfast with Santa</strong></strong></p>

<p>Join NVA for a delightful morning of festive fun at&nbsp;<strong><strong>Christmas at Northridge 2025 Breakfast with Santa</strong></strong>! Get ready to kickstart the holiday season with a jolly breakfast alongside Santa Claus himself.<br />
<br />
This exciting event will take place on&nbsp;<strong><strong>Saturday, December 6, 2025</strong></strong>, starting at&nbsp;<strong><strong>8:30 AM</strong></strong>&nbsp;in the heartwarming location of&nbsp;<strong><strong>Northridge Valley Event Center, 975 East Northridge Drive, Mapleton, UT 84664</strong></strong>.</p>

<p>Come and experience the magic as everyone gathers to celebrate the most wonderful time of the year. Bring your family and friends to enjoy a scrumptious crepe bar breakfast, complete with all your favorite holiday treats. While you savor the delicious food, Santa will be spreading cheer and joy, ready to listen to your Christmas wishes.</p>
<br />Location:<br />Northridge Valley Event Center<br />975 East Northridge Dr. <br />Mapleton, UT 84664
PRIORITY:3
TRANSP:TRANSPARENT
BEGIN:VALARM
TRIGGER:-PT5M
ACTION:DISPLAY
DESCRIPTION:Reminder
END:VALARM
END:VEVENT
END:VCALENDAR
