BEGIN:VCALENDAR
VERSION:2.0
CALSCALE:GREGORIAN
METHOD:PUBLISH
PRODID://KING//1389423
BEGIN:VEVENT
DTSTAMP:20260422T115506
VTIMEZONE:America/Denver
DTSTART:20251204T143000Z
DTEND:20251204T160000Z
UID:1389423
SUMMARY:Business and Government
LOCATION:MCC Building, 309 E. Beale St., Kingman, AZ, 86401
DESCRIPTION:Business and Government\n\n12/04/25 07:30 AM MST\n - 12/04/25 09:00 AM MST\Description:\nBusiness & Government Meeting: Connecting Our Community\nStay engaged with the latest developments shaping our community!\n\nOur meeting on Thursday, December 4th 2025 will feature speakers and information from Grand Canyon University.\n \nThis meeting offers a valuable platform to connect with local leaders, stay informed on key issues, and engage in meaningful discussions on topics that impact Chamber members and the broader business community.\n \nEach month features a guest speaker offering insights into business, government, and community affairs.\n \nJoin us to stay connected, informed, and engaged in the future of our community!\n \nMeeting Details:\nWhen: December 4th, 2025\nTime: 7:30 AM\nWhere: MCC Beale St. Center – 309 E. Beale St. or via Zoom\n \nThis meeting is open to the public.\n \nRegistration is required for Zoom access. The Zoom login credentials will be provided in a confirmation email.\Location:\nMCC Building\n309 E. Beale St.\nKingman, AZ 86401
X-ALT-DESC;FMTTYPE=text/html:Business and Government<br /><br />12/04/25 07:30 AM MST - 12/04/25 09:00 AM MST<br />Description:<br /><strong>Business &amp; Government Meeting: Connecting Our Community</strong><br />
Stay engaged with the latest developments shaping our community!<br />
<br />
Our meeting on Thursday, December 4th 2025 will feature speakers and information from Grand Canyon University.<br />
&nbsp;<br />
This meeting offers a valuable platform to connect with local leaders, stay informed on key issues, and engage in meaningful discussions on topics that impact Chamber members and the broader business community.<br />
&nbsp;<br />
Each month features a guest speaker offering insights into business, government, and community affairs.<br />
&nbsp;<br />
Join us to stay connected, informed, and engaged in the future of our community!<br />
&nbsp;<br />
<strong>Meeting Details:</strong><br />
When: December 4th, 2025<br />
Time: 7:30 AM<br />
Where: MCC Beale St. Center &ndash; 309 E. Beale St. or via Zoom<br />
&nbsp;<br />
This meeting is open to the public.<br />
&nbsp;<br />
<strong>Registration is required for Zoom access. </strong>The <strong>Zoom login credentials</strong> will be provided in a confirmation email.<br />Location:<br />MCC Building<br />309 E. Beale St.<br />Kingman, AZ 86401
PRIORITY:3
TRANSP:TRANSPARENT
BEGIN:VALARM
TRIGGER:-PT5M
ACTION:DISPLAY
DESCRIPTION:Reminder
END:VALARM
END:VEVENT
END:VCALENDAR
