BEGIN:VCALENDAR
VERSION:2.0
CALSCALE:GREGORIAN
METHOD:PUBLISH
PRODID://JCOC//1389764
BEGIN:VEVENT
DTSTAMP:20260424T150124
VTIMEZONE:America/Chicago
DTSTART:20251206T160000Z
DTEND:20251206T180000Z
UID:1389764
SUMMARY:Breakfast with Santa - Bridges Mercantile
LOCATION:Bridges Mercantile, 108 E. Main Street, Jenks, OK, 74037
DESCRIPTION:Breakfast with Santa - Bridges Mercantile\n\n12/06/25 10:00 AM CST\n - 12/06/25 12:00 PM CST\Description:\nMeet and Greet Santa! Photos and Donuts! \Location:\nBridges Mercantile\n108 E. Main Street\nJenks, OK 74037
X-ALT-DESC;FMTTYPE=text/html:Breakfast with Santa - Bridges Mercantile<br /><br />12/06/25 10:00 AM CST - 12/06/25 12:00 PM CST<br />Description:<br />Meet and Greet Santa! Photos and Donuts!&nbsp;<br />Location:<br />Bridges Mercantile<br />108 E. Main Street<br />Jenks, OK 74037
PRIORITY:3
TRANSP:TRANSPARENT
BEGIN:VALARM
TRIGGER:-PT5M
ACTION:DISPLAY
DESCRIPTION:Reminder
END:VALARM
END:VEVENT
END:VCALENDAR
