BEGIN:VCALENDAR
VERSION:2.0
CALSCALE:GREGORIAN
METHOD:PUBLISH
PRODID://JCOC//1389781
BEGIN:VEVENT
DTSTAMP:20260424T150124
VTIMEZONE:America/Chicago
DTSTART:20251206T220000Z
DTEND:20251207T010000Z
UID:1389781
SUMMARY:Christmas in the Commons
LOCATION:Jenks Downtown Commons
DESCRIPTION:Christmas in the Commons\n\n12/06/25 04:00 PM CST\n - 12/06/25 07:00 PM CST\Description:\nVisit Santa at Christmas in the Commons! \n\nSanta is coming to Downtown Jenks! Stop by his Santa House in the Downtown Commons for photos and holiday fun.\nThe Commons will be filled with Christmas trees decorated by local businesses, making it the perfect place to capture family memories and celebrate the season.\n\nSanta's Schedule:\nSaturday, December 6, 2025 | 4:00–7:00 PM\nSaturday, December 13 | 4:00–7:00 PM\n\nCome say hi to Santa and enjoy the sights of Downtown Jenks this holiday season\Location:\nJenks Downtown Commons\n\n,
X-ALT-DESC;FMTTYPE=text/html:Christmas in the Commons<br /><br />12/06/25 04:00 PM CST - 12/06/25 07:00 PM CST<br />Description:<br />Visit Santa at Christmas in the Commons!&nbsp;<br />
<br />
Santa is coming to Downtown Jenks! Stop by his Santa House in the Downtown Commons for photos and holiday fun.<br />
The Commons will be filled with Christmas trees decorated by local businesses, making it the perfect place to capture family memories and celebrate the season.<br />
<br />
Santa's Schedule:<br />
Saturday, December 6, 2025 | 4:00&ndash;7:00 PM<br />
Saturday, December 13 | 4:00&ndash;7:00 PM<br />
<br />
Come say hi to Santa and enjoy the sights of Downtown Jenks this holiday season<br />Location:<br />Jenks Downtown Commons<br /><br />,  
PRIORITY:3
TRANSP:TRANSPARENT
BEGIN:VALARM
TRIGGER:-PT5M
ACTION:DISPLAY
DESCRIPTION:Reminder
END:VALARM
END:VEVENT
END:VCALENDAR
