BEGIN:VCALENDAR
VERSION:2.0
CALSCALE:GREGORIAN
METHOD:PUBLISH
PRODID://OCON//1389824
BEGIN:VEVENT
DTSTAMP:20260424T103758
VTIMEZONE:America/New_York
DTSTART:20260605T123000Z
DTEND:20260605T140000Z
UID:1389824
SUMMARY:ESP Friend Friday
LOCATION:ESP , 189 VFW Drive, Watkinsville, GA, 30677
DESCRIPTION:ESP Friend Friday\n\n06/05/26 08:30 AM EST\n - 06/05/26 10:00 AM EST\Location:\nESP \n189 VFW Drive\nWatkinsville, GA 30677
X-ALT-DESC;FMTTYPE=text/html:ESP Friend Friday<br /><br />06/05/26 08:30 AM EST - 06/05/26 10:00 AM EST<br />Location:<br />ESP <br />189 VFW Drive<br />Watkinsville, GA 30677
PRIORITY:3
TRANSP:TRANSPARENT
BEGIN:VALARM
TRIGGER:-PT5M
ACTION:DISPLAY
DESCRIPTION:Reminder
END:VALARM
END:VEVENT
END:VCALENDAR
