BEGIN:VCALENDAR
VERSION:2.0
CALSCALE:GREGORIAN
METHOD:PUBLISH
PRODID://OCON//1389826
BEGIN:VEVENT
DTSTAMP:20260424T103823
VTIMEZONE:America/New_York
DTSTART:20260615T203000Z
DTEND:20260615T230000Z
UID:1389826
SUMMARY:Multi-Chamber Business After Hours
LOCATION:Wire Park, 1725 Electric Avenue, Watkinsville, GA, 30677
DESCRIPTION:Multi-Chamber Business After Hours\n\n06/15/26 04:30 PM EST\n - 06/15/26 07:00 PM EST\Location:\nWire Park\n1725 Electric Avenue\nWatkinsville, GA 30677
X-ALT-DESC;FMTTYPE=text/html:Multi-Chamber Business After Hours<br /><br />06/15/26 04:30 PM EST - 06/15/26 07:00 PM EST<br />Location:<br />Wire Park<br />1725 Electric Avenue<br />Watkinsville, GA 30677
PRIORITY:3
TRANSP:TRANSPARENT
BEGIN:VALARM
TRIGGER:-PT5M
ACTION:DISPLAY
DESCRIPTION:Reminder
END:VALARM
END:VEVENT
END:VCALENDAR
