BEGIN:VCALENDAR
VERSION:2.0
CALSCALE:GREGORIAN
METHOD:PUBLISH
PRODID://OCON//1389870
BEGIN:VEVENT
DTSTAMP:20260424T152501
VTIMEZONE:America/New_York
DTSTART:20261209T160000Z
DTEND:20261209T190000Z
UID:1389870
SUMMARY:Women in Business Holiday Luncheon
LOCATION:
DESCRIPTION:Women in Business Holiday Luncheon\n\n12/09/26 11:00 AM EST\n - 12/09/26 02:00 PM EST
X-ALT-DESC;FMTTYPE=text/html:Women in Business Holiday Luncheon<br /><br />12/09/26 11:00 AM EST - 12/09/26 02:00 PM EST
PRIORITY:3
TRANSP:TRANSPARENT
BEGIN:VALARM
TRIGGER:-PT5M
ACTION:DISPLAY
DESCRIPTION:Reminder
END:VALARM
END:VEVENT
END:VCALENDAR
