BEGIN:VCALENDAR
VERSION:2.0
CALSCALE:GREGORIAN
METHOD:PUBLISH
PRODID://KING//1389903
BEGIN:VEVENT
DTSTAMP:20260422T115405
VTIMEZONE:America/Denver
DTSTART:20251212T190000Z
DTEND:20251212T200000Z
UID:1389903
SUMMARY:Living Waters Hospice Celebration of Life
LOCATION:Living Waters Hospice, Kingman, AZ, 86409
DESCRIPTION:Living Waters Hospice Celebration of Life\n\n12/12/25 12:00 PM MST\n - 12/12/25 01:00 PM MST\Description:\nLiving Waters Hospice – Celebration of Life\n\nJoin us as we come together to honor, remember, and celebrate the lives of our loved ones. Living Waters Hospice invites the community to our annual Celebration of Life—a heartfelt time of reflection, comfort, and connection.\n\nðŸ“… Date: Friday, December 12, 2025\nâ° Time: 12:00 PM – 1:00 PM\nðŸ“ Location: St. John’s United Methodist Church- 1730 Kino Ave., Kingman, AZ\nOpen to the Public\n\nThis gathering offers a peaceful space to share memories and find support among others who have experienced loss. Refreshments will be provided. We invite attendees to bring a photo of their loved one for our Memory Table.\n\nRSVP: Living Waters Hospice\nðŸ“ž (928) 565-9000\n\Location:\nLiving Waters Hospice\n\nKingman, AZ 86409
X-ALT-DESC;FMTTYPE=text/html:Living Waters Hospice Celebration of Life<br /><br />12/12/25 12:00 PM MST - 12/12/25 01:00 PM MST<br />Description:<br /><p data-end="145" data-start="98"><strong data-end="145" data-start="98">Living Waters Hospice &ndash; Celebration of Life</strong></p>

<p data-end="376" data-start="147">Join us as we come together to honor, remember, and celebrate the lives of our loved ones. Living Waters Hospice invites the community to our annual&nbsp;<strong data-end="319" data-start="296">Celebration of Life</strong>&mdash;a heartfelt time of reflection, comfort, and connection.</p>

<p data-end="561" data-start="378"><strong data-end="390" data-start="378">ðŸ“… Date:</strong>&nbsp;Friday, December 12, 2025<br data-end="419" data-start="416" />
<strong data-end="430" data-start="419">â° Time:</strong>&nbsp;12:00 PM &ndash; 1:00 PM<br data-end="452" data-start="449" />
<strong data-end="468" data-start="452">ðŸ“ Location:</strong>&nbsp;St. John&rsquo;s United Methodist Church- 1730 Kino Ave., Kingman, AZ<br />
<strong data-end="561" data-start="536">Open to the Public</strong></p>

<p data-end="785" data-start="563">This gathering offers a peaceful space to share memories and find support among others who have experienced loss. Refreshments will be provided. We invite attendees to bring a photo of their loved one for our Memory Table.</p>

<p data-end="838" data-start="787"><strong data-end="796" data-start="787">RSVP:</strong>&nbsp;Living Waters Hospice<br data-end="821" data-start="818" />
ðŸ“ž (928) 565-9000</p>
<br />Location:<br />Living Waters Hospice<br /><br />Kingman, AZ 86409
PRIORITY:3
TRANSP:TRANSPARENT
BEGIN:VALARM
TRIGGER:-PT5M
ACTION:DISPLAY
DESCRIPTION:Reminder
END:VALARM
END:VEVENT
END:VCALENDAR
