BEGIN:VCALENDAR
VERSION:2.0
CALSCALE:GREGORIAN
METHOD:PUBLISH
PRODID://KING//1390055
BEGIN:VEVENT
DTSTAMP:20260422T054328
VTIMEZONE:America/Phoenix
DTSTART:20251115T200000Z
DTEND:20251115T220000Z
UID:1390055
SUMMARY:Kingman Master Gardeners: Desert Landscaping Workshop
LOCATION:Kingman Library, 3269 N Burbank St, Kingman, AZ, 86409
DESCRIPTION:Kingman Master Gardeners: Desert Landscaping Workshop\n\n11/15/25 01:00 PM MT\n - 11/15/25 03:00 PM MT\Description:\nKingman Workshop 11/15 1-3pm Kingman Library\n\nJoin the Kingman Master Gardeners as they welcome special guest, Wayne Hollins, to discuss Desert Landscaping! The presentation will focus on working with the desert environment, including how, where, and what to plant in our arid environment.\n\nThe event will take place Saturday (11/15) at the Kingman Library (3269 N Burbank St.) from 1pm-3pm. As always, the event is Free and Open to the Public!\n \Location:\nKingman Library\n3269 N Burbank St\nKingman, AZ 86409
X-ALT-DESC;FMTTYPE=text/html:Kingman Master Gardeners: Desert Landscaping Workshop<br /><br />11/15/25 01:00 PM MT - 11/15/25 03:00 PM MT<br />Description:<br />Kingman Workshop 11/15 1-3pm Kingman Library<br />
<br />
Join the Kingman Master Gardeners as they welcome special guest, Wayne Hollins, to discuss Desert Landscaping! The presentation will focus on working with the desert environment, including how, where, and what to plant in our arid environment.<br />
<br />
The event will take place Saturday (11/15) at the Kingman Library (3269 N Burbank St.) from 1pm-3pm. As always, the event is Free and Open to the Public!<br />
&nbsp;<br />Location:<br />Kingman Library<br />3269 N Burbank St<br />Kingman, AZ 86409
PRIORITY:3
TRANSP:TRANSPARENT
BEGIN:VALARM
TRIGGER:-PT5M
ACTION:DISPLAY
DESCRIPTION:Reminder
END:VALARM
END:VEVENT
END:VCALENDAR
