BEGIN:VCALENDAR
VERSION:2.0
CALSCALE:GREGORIAN
METHOD:PUBLISH
PRODID://KING//1390224
BEGIN:VEVENT
DTSTAMP:20260422T053751
VTIMEZONE:America/Denver
DTSTART:20251120T230000Z
DTEND:20251121T010000Z
UID:1390224
SUMMARY:Mr. D'z Gift Shop - Artist Ray Harvey Mural Ribbon Cutting
LOCATION:Mr. D'z Route 66 Gift Shop, 119 E. Andy Devine, Kingman, AZ, 86401
DESCRIPTION:Mr. D'z Gift Shop - Artist Ray Harvey Mural Ribbon Cutting\n\n11/20/25 04:00 PM MST\n - 11/20/25 06:00 PM MST\Description:\nðŸ‡ºðŸ‡¸Official Reveal of Kingman’s Newest Route 66 Mural! ðŸ‡ºðŸ‡¸\n\nHosted by The Dunton Family\n\nJoin us for a special community celebration as we unveil Route 66’s newest large-scale mural, created by legendary artist Ray Harvey in tribute to Mr. Scott Dunton. This exciting addition honors the spirit of America’s Mother Road and brings a vibrant new landmark to downtown Kingman. Thank you to the National Trust for Historic Preservation and the Dunton Family for contributing to the creation of this amazing tribute.\n \n\nðŸ“… Thursday, November 20, 2025\nâ° 4:00 PM – 6:00 PM\n\nHere’s what’s happening:\n\nðŸ“¸ 4:00–5:00 PM - Photos & Ribbon Cutting\nThunder-Rode Event Center Lot - 102 E. Beale St. \nBe among the first to see the mural up close, grab photos, and celebrate the official ribbon-cutting!\n\nðŸª 5:00–6:00 PM – Refreshments\nMr. D'z Route 66 Gift Shop inside Dunton Motors - 119 E. Andy Devine\n\nCome celebrate local art, Route 66 culture, and the incredible talent of Ray Harvey.\n\nWe look forward to seeing you there! ðŸŽ‰\n\Location:\nMr. D'z Route 66 Gift Shop\n119 E. Andy Devine\nKingman, AZ 86401
X-ALT-DESC;FMTTYPE=text/html:Mr. D'z Gift Shop - Artist Ray Harvey Mural Ribbon Cutting<br /><br />11/20/25 04:00 PM MST - 11/20/25 06:00 PM MST<br />Description:<br /><h2 data-end="237" data-start="162">ðŸ‡ºðŸ‡¸<strong data-end="228" data-start="173">Official Reveal of Kingman&rsquo;s Newest Route 66 Mural!</strong>&nbsp;ðŸ‡ºðŸ‡¸</h2>

<h2 data-end="294" data-start="238">Hosted by&nbsp;<strong data-end="294" data-start="273">The Dunton Family</strong></h2>

<h2 data-end="554" data-start="296">Join us for a special community celebration as we unveil Route 66&rsquo;s newest large-scale mural, created by legendary artis<strong>t&nbsp;<strong data-end="432" data-start="418">Ray Harvey in tribute to Mr. Scott Dunton.</strong>&nbsp;</strong>This exciting addition honors the spirit of America&rsquo;s Mother Road and brings a vibrant new landmark to downtown Kingman. Thank you to the National Trust for Historic Preservation and the Dunton Family for contributing to the creation of this amazing tribute.</h2>
&nbsp;

<h2 data-end="666" data-start="556">ðŸ“…&nbsp;<strong data-end="590" data-start="559">Thursday, November 20, 2025</strong><br data-end="593" data-start="590" />
â°&nbsp;<strong data-end="616" data-start="595">4:00 PM &ndash; 6:00 PM</strong></h2>

<h2 data-end="692" data-start="668">Here&rsquo;s what&rsquo;s happening:</h2>

<h2 data-end="884" data-start="694">ðŸ“¸&nbsp;<strong data-end="713" data-start="697">4:00&ndash;5:00 PM</strong>&nbsp;- Photos &amp; Ribbon Cutting<br data-end="742" data-start="739" />
<strong>Thunder-Rode Event Center Lot</strong> - 102 E. Beale St.&nbsp;<br data-end="783" data-start="780" />
Be among the first to see the mural up close, grab photos, and celebrate the official ribbon-cutting!</h2>

<h2 data-end="1009" data-start="886">ðŸª&nbsp;<strong data-end="905" data-start="889">5:00&ndash;6:00 PM</strong>&nbsp;&ndash; Refreshments<br />
<strong data-end="987" data-start="958">Mr. D'z&nbsp;Route 66 Gift Shop</strong>&nbsp;inside Dunton Motors - 119 E. Andy Devine</h2>

<h2 data-end="1179" data-start="1011">Come celebrate local art, Route 66 culture, and the incredible talent of Ray Harvey.</h2>

<h2 data-end="1220" data-start="1181">We look forward to seeing you there! ðŸŽ‰</h2>
<br />Location:<br />Mr. D'z Route 66 Gift Shop<br />119 E. Andy Devine<br />Kingman, AZ 86401
PRIORITY:3
TRANSP:TRANSPARENT
BEGIN:VALARM
TRIGGER:-PT5M
ACTION:DISPLAY
DESCRIPTION:Reminder
END:VALARM
END:VEVENT
END:VCALENDAR
