BEGIN:VCALENDAR
VERSION:2.0
CALSCALE:GREGORIAN
METHOD:PUBLISH
PRODID://JCOC//1390459
BEGIN:VEVENT
DTSTAMP:20260424T145959
VTIMEZONE:America/Chicago
DTSTART:20251203T150000Z
DTEND:20251203T160000Z
UID:1390459
SUMMARY:Bagels & Benefits
LOCATION:Jenks Chamber of Commerce, 161 S. Riverfront Drive, Jenks, OK, 74037
DESCRIPTION:Bagels & Benefits\n\n12/03/25 09:00 AM CST\n - 12/03/25 10:00 AM CST\Description:\nJoin us for Bagels & Benefits on Wednesday December 3rd at the Jenks Chamber offices, 161 S. Riverfront Dr. Suite 112, and learn how to maximize your membership. This session provides an overview of networking and sponsorship opportunities, ways to engage with fellow members and the community, and strategies to enhance your marketing and visibility.\Location:\nJenks Chamber of Commerce\n161 S. Riverfront Drive\nJenks, OK 74037
X-ALT-DESC;FMTTYPE=text/html:Bagels & Benefits<br /><br />12/03/25 09:00 AM CST - 12/03/25 10:00 AM CST<br />Description:<br />Join us for Bagels &amp; Benefits on Wednesday December 3rd at the Jenks Chamber offices, 161 S. Riverfront Dr. Suite 112, and learn how to maximize your membership. This session provides an overview of networking and sponsorship opportunities, ways to engage with fellow members and the community, and strategies to enhance your marketing and visibility.<br />Location:<br />Jenks Chamber of Commerce<br />161 S. Riverfront Drive<br />Jenks, OK 74037
PRIORITY:3
TRANSP:TRANSPARENT
BEGIN:VALARM
TRIGGER:-PT5M
ACTION:DISPLAY
DESCRIPTION:Reminder
END:VALARM
END:VEVENT
END:VCALENDAR
