BEGIN:VCALENDAR
VERSION:2.0
CALSCALE:GREGORIAN
METHOD:PUBLISH
PRODID://JCOC//1390460
BEGIN:VEVENT
DTSTAMP:20260424T145959
VTIMEZONE:America/Chicago
DTSTART:20251203T160000Z
DTEND:20251203T173000Z
UID:1390460
SUMMARY:Deeper Dive into the Jenks Chamber Website -  Training for Members
LOCATION:Jenks Chamber of Commerce, 161 S. Riverfront Drive, Jenks, Ok, 74037
DESCRIPTION:Deeper Dive into the Jenks Chamber Website -  Training for Members\n\n12/03/25 10:00 AM CST\n - 12/03/25 11:30 AM CST\Description:\nWant more information and training on how to use the Jenks Chamber Member web portal? This is your chance! Bring your laptop or tablet and get ready to dive in! This training is immediately following our Bagels & Benefits.\n\nDuring this training you will learn how to:\n\n	Log In\n	Register for events\n	Submit calendar events\n	Pay your invoices online\n	Offer Coupons\n	Get customer Kudo's\n	Post open jobs\n	Create a video profile\n	Update your professional online catalog\n	Find your monthly traffic reports\n	Create business ads\n	Find free technical support\n	Share business flyers\n	Interact on the community forum\n	Utilize your own order system \n	and so much MORE! \n\n\Location:\nJenks Chamber of Commerce\n161 S. Riverfront Drive\nJenks, Ok 74037
X-ALT-DESC;FMTTYPE=text/html:Deeper Dive into the Jenks Chamber Website -  Training for Members<br /><br />12/03/25 10:00 AM CST - 12/03/25 11:30 AM CST<br />Description:<br />Want more information and training on how to use the Jenks Chamber Member web portal? This is your chance! Bring your laptop or tablet and get ready to dive in! This training is immediately following our Bagels &amp; Benefits.<br />
<br />
During this training you will learn how to:
<ul>
	<li>Log In</li>
	<li>Register for events</li>
	<li>Submit calendar events</li>
	<li>Pay your invoices online</li>
	<li>Offer Coupons</li>
	<li>Get customer Kudo's</li>
	<li>Post open jobs</li>
	<li>Create a video profile</li>
	<li>Update your professional online catalog</li>
	<li>Find your monthly traffic reports</li>
	<li>Create business ads</li>
	<li>Find free technical support</li>
	<li>Share business flyers</li>
	<li>Interact on the community forum</li>
	<li>Utilize your own order system&nbsp;</li>
	<li>and so much MORE!&nbsp;</li>
</ul>
<br />Location:<br />Jenks Chamber of Commerce<br />161 S. Riverfront Drive<br />Jenks, Ok 74037
PRIORITY:3
TRANSP:TRANSPARENT
BEGIN:VALARM
TRIGGER:-PT5M
ACTION:DISPLAY
DESCRIPTION:Reminder
END:VALARM
END:VEVENT
END:VCALENDAR
