BEGIN:VCALENDAR
VERSION:2.0
CALSCALE:GREGORIAN
METHOD:PUBLISH
PRODID://JCOC//1390563
BEGIN:VEVENT
DTSTAMP:20260424T160325
VTIMEZONE:America/Chicago
DTSTART:20251128T120000Z
DTEND:20251130T030000Z
UID:1390563
SUMMARY:Small Business Pop-Up at Tulsa Premium Outlets
LOCATION:Tulsa Premium Outlets, 801 E Outlet Dr, Jenks, OK, 74037
DESCRIPTION:Small Business Pop-Up at Tulsa Premium Outlets\n\n11/28/25 06:00 AM CST\n - 11/29/25 09:00 PM CST\Description:\nJoin us for a special holiday pop-up shot featuring our amazing community of local makers, boutiques and artisans. Discover unique gifts, enjoy exclusive deals and make a big impact by shopping locally. \n\nIf you are local business and would like to participate in this amazing opportunity to showcase your work during Black Friday and/or Small Business Saturday at the Tulsa Premium Outlets, register today! \nCost is $50 for one day or $100 for the weekend. \nPlease specify which days you will be vending. \nRegistration is due by November 24 and each vendor must sign an agreement with Simon. \n\nSmall Business Pop-Up Times:\nFriday, November 28\n6am - 9pm\n\nSaturday, November 29\n10am - 9pm\Location:\nTulsa Premium Outlets\n801 E Outlet Dr\nJenks, OK 74037
X-ALT-DESC;FMTTYPE=text/html:Small Business Pop-Up at Tulsa Premium Outlets<br /><br />11/28/25 06:00 AM CST - 11/29/25 09:00 PM CST<br />Description:<br />Join us for a special holiday pop-up shot featuring our amazing community of local makers, boutiques and artisans. Discover unique gifts, enjoy exclusive deals and make a big impact by shopping locally.&nbsp;<br />
<br />
If you are local business and would like to participate in this amazing opportunity to showcase your work during Black Friday and/or Small Business Saturday at the Tulsa Premium Outlets, register today!&nbsp;<br />
Cost is $50 for one day or $100 for the weekend.&nbsp;<br />
Please specify which days you will be vending.&nbsp;<br />
Registration is due by November 24 and each vendor must sign an agreement with Simon.&nbsp;<br />
<br />
Small Business Pop-Up Times:<br />
Friday, November 28<br />
6am - 9pm<br />
<br />
Saturday, November 29<br />
10am - 9pm<br />Location:<br />Tulsa Premium Outlets<br />801 E Outlet Dr<br />Jenks, OK 74037
PRIORITY:3
TRANSP:TRANSPARENT
BEGIN:VALARM
TRIGGER:-PT5M
ACTION:DISPLAY
DESCRIPTION:Reminder
END:VALARM
END:VEVENT
END:VCALENDAR
