BEGIN:VCALENDAR
VERSION:2.0
CALSCALE:GREGORIAN
METHOD:PUBLISH
PRODID://KING//1390615
BEGIN:VEVENT
DTSTAMP:20260422T115447
VTIMEZONE:America/Denver
DTSTART:20251203T200000Z
DTEND:20251203T220000Z
UID:1390615
SUMMARY:TriState CareFlight 66 15th Anniversary
LOCATION:TriState CareFlight 66 Base, 7000 Flightline Drive, Kingman, AZ, 86401
DESCRIPTION:TriState CareFlight 66 15th Anniversary\n\n12/03/25 01:00 PM MST\n - 12/03/25 03:00 PM MST\Description:\nJoin TriState CareFlight 66 as they celebrate 15 years of emergency air medical service to the Kingman community and surrounding region. Guests are invited to meet the crew, enjoy camaraderie and refreshments, participate in a patient reunion, and see the aircraft and its specialized medical equipment up close.\n\nSpeeches will begin at approximately 1:30 p.m.\nRefreshments provided.\n\nDate: Wednesday, December 3, 2025\nTime: 1:00 p.m. – 3:00 p.m.\nLocation: TriState CareFlight 66 Base\n7000 Flightline Drive, Kingman, AZ 86401\n\nRSVP: outreach.careflight66@airmethods.com\n\Location:\nTriState CareFlight 66 Base\n7000 Flightline Drive\nKingman, AZ 86401
X-ALT-DESC;FMTTYPE=text/html:TriState CareFlight 66 15th Anniversary<br /><br />12/03/25 01:00 PM MST - 12/03/25 03:00 PM MST<br />Description:<br /><p data-end="455" data-start="137">Join TriState CareFlight 66 as they celebrate&nbsp;<strong data-end="228" data-start="183">15 years of emergency air medical service</strong>&nbsp;to the Kingman community and surrounding region. Guests are invited to meet the crew, enjoy camaraderie and refreshments, participate in a patient reunion, and see the aircraft and its specialized medical equipment up close.</p>

<p data-end="536" data-start="457"><strong data-end="507" data-start="457">Speeches will begin at approximately 1:30 p.m.</strong><br data-end="510" data-start="507" />
<strong data-end="536" data-start="510">Refreshments provided.</strong></p>

<p data-end="696" data-start="538"><strong data-end="547" data-start="538">Date:</strong>&nbsp;Wednesday, December 3, 2025<br data-end="578" data-start="575" />
<strong data-end="587" data-start="578">Time:</strong>&nbsp;1:00 p.m. &ndash; 3:00 p.m.<br data-end="612" data-start="609" />
<strong data-end="625" data-start="612">Location:</strong>&nbsp;TriState CareFlight 66 Base<br data-end="656" data-start="653" />
7000 Flightline Drive, Kingman, AZ 86401</p>

<p data-end="744" data-start="698"><strong data-end="707" data-start="698">RSVP:</strong>&nbsp;<a data-end="744" data-start="708" rel="noopener">outreach.careflight66@airmethods.com</a></p>
<br />Location:<br />TriState CareFlight 66 Base<br />7000 Flightline Drive<br />Kingman, AZ 86401
PRIORITY:3
TRANSP:TRANSPARENT
BEGIN:VALARM
TRIGGER:-PT5M
ACTION:DISPLAY
DESCRIPTION:Reminder
END:VALARM
END:VEVENT
END:VCALENDAR
