BEGIN:VCALENDAR
VERSION:2.0
CALSCALE:GREGORIAN
METHOD:PUBLISH
PRODID://OCON//1390842
BEGIN:VEVENT
DTSTAMP:20260424T143224
VTIMEZONE:America/New_York
DTSTART:20251211T203000Z
DTEND:20251211T213000Z
UID:1390842
SUMMARY:Ribbon Cutting | Moore Flower Company
LOCATION:Moore Flower Company, 1024 Twelve Oaks Drive, Watkinsville, GA, 30677
DESCRIPTION:Ribbon Cutting | Moore Flower Company\n\n12/11/25 03:30 PM EST\n - 12/11/25 04:30 PM EST\Location:\nMoore Flower Company\n1024 Twelve Oaks Drive\nWatkinsville, GA 30677
X-ALT-DESC;FMTTYPE=text/html:Ribbon Cutting | Moore Flower Company<br /><br />12/11/25 03:30 PM EST - 12/11/25 04:30 PM EST<br />Location:<br />Moore Flower Company<br />1024 Twelve Oaks Drive<br />Watkinsville, GA 30677
PRIORITY:3
TRANSP:TRANSPARENT
BEGIN:VALARM
TRIGGER:-PT5M
ACTION:DISPLAY
DESCRIPTION:Reminder
END:VALARM
END:VEVENT
END:VCALENDAR
