BEGIN:VCALENDAR
VERSION:2.0
CALSCALE:GREGORIAN
METHOD:PUBLISH
PRODID://JCOC//1391450
BEGIN:VEVENT
DTSTAMP:20260424T160352
VTIMEZONE:America/Chicago
DTSTART:20251121T230000Z
DTEND:20251122T020000Z
UID:1391450
SUMMARY:Lights On!
LOCATION:Jenks Main Street
DESCRIPTION:Lights On!\n\n11/21/25 05:00 PM CST\n - 11/21/25 08:00 PM CST\Description:\nLights On Postponed!\n\nFor the safety of our attendees and participants, Lights On has been postponed due to tomorrow’s projected weather conditions. The event is now rescheduled for Friday, November 21, from 5–8 p.m. on Jenks Main Street.\n\nThis event is free of charge and the public is invited to attend from 5-8 p.m. On Jenks Main Street, attendees can enjoy attractions including a visit to see Santa Claus and a variety of local vendors.\Location:\nJenks Main Street\n\n,
X-ALT-DESC;FMTTYPE=text/html:Lights On!<br /><br />11/21/25 05:00 PM CST - 11/21/25 08:00 PM CST<br />Description:<br />Lights On Postponed!<br />
<br />
For the safety of our attendees and participants, Lights On has been postponed due to tomorrow&rsquo;s projected weather conditions. The event is now rescheduled for Friday, November 21, from 5&ndash;8 p.m. on Jenks Main Street.<br />
<br />
This event is free of charge and the public is invited to attend from 5-8 p.m. On Jenks Main Street, attendees can enjoy attractions including a visit to see Santa Claus and a variety of local vendors.<br />Location:<br />Jenks Main Street<br /><br />,  
PRIORITY:3
TRANSP:TRANSPARENT
BEGIN:VALARM
TRIGGER:-PT5M
ACTION:DISPLAY
DESCRIPTION:Reminder
END:VALARM
END:VEVENT
END:VCALENDAR
