BEGIN:VCALENDAR
VERSION:2.0
CALSCALE:GREGORIAN
METHOD:PUBLISH
PRODID://BETH//1391488
BEGIN:VEVENT
DTSTAMP:20260424T123927
VTIMEZONE:America/Chicago
DTSTART:20251213T150000Z
DTEND:20251213T170000Z
UID:1391488
SUMMARY:Breakfast with Santa hosted by Kiwanis Club of Bethalto 
LOCATION:Bethalto Senior Center, 100 E Central Street, Bethalto, IL, 62010
DESCRIPTION:Breakfast with Santa hosted by Kiwanis Club of Bethalto \n\n12/13/25 09:00 AM CST\n - 12/13/25 11:00 AM CST\Description:\nKiwanis Club of Bethalto invites you to join us for FREE pancakes on Saturday, December 13th at 9am-11am at the Bethalto Senior Center 100 E Central Street Bethalto, IL 62010. Photos ops available, bring your own camera.\Location:\nBethalto Senior Center\n100 E Central Street\nBethalto, IL 62010
X-ALT-DESC;FMTTYPE=text/html:Breakfast with Santa hosted by Kiwanis Club of Bethalto <br /><br />12/13/25 09:00 AM CST - 12/13/25 11:00 AM CST<br />Description:<br />Kiwanis Club of Bethalto invites you to join us for FREE pancakes on Saturday, December 13th at 9am-11am at the Bethalto Senior Center 100 E Central Street Bethalto, IL 62010. Photos ops available, bring your own camera.<br />Location:<br />Bethalto Senior Center<br />100 E Central Street<br />Bethalto, IL 62010
PRIORITY:3
TRANSP:TRANSPARENT
BEGIN:VALARM
TRIGGER:-PT5M
ACTION:DISPLAY
DESCRIPTION:Reminder
END:VALARM
END:VEVENT
END:VCALENDAR
