BEGIN:VCALENDAR
VERSION:2.0
CALSCALE:GREGORIAN
METHOD:PUBLISH
PRODID://GFCC//1391493
BEGIN:VEVENT
DTSTAMP:20260424T123927
VTIMEZONE:America/Chicago
DTSTART:20251206T230000Z
DTEND:20251207T010000Z
UID:1391493
SUMMARY:Cookies & Cocoa with the Chamber at The Festival of Lights
LOCATION:Rogier Park near the circle drive, West Fillmore Street, Vandalia, IL, 62471
DESCRIPTION:Cookies & Cocoa with the Chamber at The Festival of Lights\n\n12/06/25 05:00 PM CST\n - 12/06/25 07:00 PM CST\Description:\nJoin us for Cookies & Cocoa with the Chamber at Rogier Park!  The Chamber will be handing out a yummy Chocolate Chip & Sugar Cookie Duo, hot chocolate, and bottled water—perfect treats to enjoy while you take in the holiday light display around the park. Stop by, say hello, and share a little festive cheer with us!\Location:\nRogier Park near the circle drive\nWest Fillmore Street\nVandalia, IL 62471
X-ALT-DESC;FMTTYPE=text/html:Cookies & Cocoa with the Chamber at The Festival of Lights<br /><br />12/06/25 05:00 PM CST - 12/06/25 07:00 PM CST<br />Description:<br />Join us for <strong data-end="171" data-start="135">Cookies &amp; Cocoa with the Chamber</strong> at Rogier Park!&nbsp; The Chamber will be handing out a yummy&nbsp;<strong data-end="253" data-start="216">Chocolate Chip &amp; Sugar Cookie Duo</strong>, <strong data-end="272" data-start="255">hot chocolate</strong>, and <strong data-end="295" data-start="278">bottled water</strong>&mdash;perfect treats to enjoy while you take in the holiday light display around the park. Stop by, say hello, and share a little festive cheer with us!<br />Location:<br />Rogier Park near the circle drive<br />West Fillmore Street<br />Vandalia, IL 62471
PRIORITY:3
TRANSP:TRANSPARENT
BEGIN:VALARM
TRIGGER:-PT5M
ACTION:DISPLAY
DESCRIPTION:Reminder
END:VALARM
END:VEVENT
END:VCALENDAR
