BEGIN:VCALENDAR
VERSION:2.0
CALSCALE:GREGORIAN
METHOD:PUBLISH
PRODID://AFFT//1391521
BEGIN:VEVENT
DTSTAMP:20260420T040313
VTIMEZONE:America/Chicago
DTSTART:20251206T160000Z
DTEND:20251206T210000Z
UID:1391521
SUMMARY:Historic St. Louis: A Spirited Holiday Past
LOCATION:Ulysses S. Grant National Historic Site , 7400 Grant Road, St. Louis, MO, 63123
DESCRIPTION:Historic St. Louis: A Spirited Holiday Past\n\n12/06/25 10:00 AM CST\n - 12/06/25 03:00 PM CST\Description:\nJoin Ulysses S. Grant National Historic Site for A Spirited Holiday Past! President Grant’s home, White Haven will be decorated for the holiday season. Tour the home and create a holiday craft with your family. Guitarist Pattrick Rafferty will perform 19th century holiday tunes in the parlor and Suzanne Corbett will provide 19th century baking demonstrations in the historic stone kitchen.\n\nAll activities are free and no reservations are required.\Details:\nThis event is free and reservations are not required! \Location:\nUlysses S. Grant National Historic Site \n7400 Grant Road\nSt. Louis, MO 63123
X-ALT-DESC;FMTTYPE=text/html:Historic St. Louis: A Spirited Holiday Past<br /><br />12/06/25 10:00 AM CST - 12/06/25 03:00 PM CST<br />Description:<br />Join Ulysses S. Grant National Historic Site for A Spirited Holiday Past! President Grant&rsquo;s home, White Haven will be decorated for the holiday season. Tour the home and create a holiday craft with your family. Guitarist Pattrick Rafferty will perform 19th century holiday tunes in the parlor and Suzanne Corbett will provide 19th century baking demonstrations in the historic stone kitchen.<br />
<br />
All activities are free and no reservations are required.<br />Details:<br />This event is free and reservations are not required!&nbsp;<br />Location:<br />Ulysses S. Grant National Historic Site <br />7400 Grant Road<br />St. Louis, MO 63123
PRIORITY:3
TRANSP:TRANSPARENT
BEGIN:VALARM
TRIGGER:-PT5M
ACTION:DISPLAY
DESCRIPTION:Reminder
END:VALARM
END:VEVENT
END:VCALENDAR
