BEGIN:VCALENDAR
VERSION:2.0
CALSCALE:GREGORIAN
METHOD:PUBLISH
PRODID://LASS//1391546
BEGIN:VEVENT
DTSTAMP:20260424T123927
VTIMEZONE:America/Los_Angeles
DTSTART:20251220T013000Z
DTEND:20251220T033000Z
UID:1391546
SUMMARY:Plumas Bank Mixer
LOCATION:Plumas Bank , 3000 Riverside dr , Susanville, CA, 96130
DESCRIPTION:Plumas Bank Mixer\n\n12/19/25 05:30 PM PST\n - 12/19/25 07:30 PM PST\Description:\nCelebrating 45 Years of Plumas Bank!\n\n \n\nJoin us as we toast to their incredible milestone at our Holiday Mixer!\n\n \n\nSanta will be there for photos\n\nChristmas snacks & goodies\n\nCheerful holiday sips\n\n \n\nLet’s celebrate 45 years of community, joy, and Christmas magic!\n\Details:\nCelebrating 45 Years of Plumas Bank!\n\n \n\nJoin us as we toast to their incredible milestone at our Holiday Mixer!\n\n \n\nSanta will be there for photos\n\nChristmas snacks & goodies\n\nCheerful holiday sips\n\n \n\nLet’s celebrate 45 years of community, joy, and Christmas magic!\n\Location:\nPlumas Bank \n3000 Riverside dr \nSusanville, CA 96130
X-ALT-DESC;FMTTYPE=text/html:Plumas Bank Mixer<br /><br />12/19/25 05:30 PM PST - 12/19/25 07:30 PM PST<br />Description:<br /><p>Celebrating 45 Years of Plumas Bank!</p>

<p>&nbsp;</p>

<p>Join us as we toast to their incredible milestone at our Holiday Mixer!</p>

<p>&nbsp;</p>

<p>Santa will be there for photos</p>

<p>Christmas snacks &amp; goodies</p>

<p>Cheerful holiday sips</p>

<p>&nbsp;</p>

<p>Let&rsquo;s celebrate 45 years of community, joy, and Christmas magic!</p>
<br />Details:<br /><p>Celebrating 45 Years of Plumas Bank!</p>

<p>&nbsp;</p>

<p>Join us as we toast to their incredible milestone at our Holiday Mixer!</p>

<p>&nbsp;</p>

<p>Santa will be there for photos</p>

<p>Christmas snacks &amp; goodies</p>

<p>Cheerful holiday sips</p>

<p>&nbsp;</p>

<p>Let&rsquo;s celebrate 45 years of community, joy, and Christmas magic!</p>
<br />Location:<br />Plumas Bank <br />3000 Riverside dr <br />Susanville, CA 96130
PRIORITY:3
TRANSP:TRANSPARENT
BEGIN:VALARM
TRIGGER:-PT5M
ACTION:DISPLAY
DESCRIPTION:Reminder
END:VALARM
END:VEVENT
END:VCALENDAR
