BEGIN:VCALENDAR
VERSION:2.0
CALSCALE:GREGORIAN
METHOD:PUBLISH
PRODID://LASS//1391565
BEGIN:VEVENT
DTSTAMP:20260424T123927
VTIMEZONE:America/Los_Angeles
DTSTART:20251207T000000Z
DTEND:20251207T030000Z
UID:1391565
SUMMARY:Magical Country Christmas 
LOCATION:Uptown Susanville , Susanville, CA, 96130
DESCRIPTION:Magical Country Christmas \n\n12/06/25 04:00 PM PST\n - 12/06/25 07:00 PM PST\Description:\nThe Lassen County Chamber of Commerce Presents: The 2025 Magical Country Christmas! \n\n \n\nThe Lassen County Chamber of Commerce is thrilled to invite you to the 2025 Magical Country Christmas, happening Saturday, December 6th in Historic Uptown Susanville!\n\n \n\nGet ready for an evening full of holiday cheer as Uptown transforms into a winter wonderland! Stroll through the charming vendor booths, sip and savor during the Hot Toddy Walk, and enjoy live entertainment that will keep your spirits bright.\n\n \n\nThe fun continues with our beloved Magical Country Christmas Parade, followed by spectacular fireworks that light up the Susanville sky. And this year, we’re especially excited to unveil our brand-new community Christmas Tree — the centerpiece of our Annual Tree Lighting Ceremony that will shine brighter than ever before!\n\n \n\nBring your family, gather your friends, and come celebrate the magic of the season with us. It’s a hometown holiday tradition you won’t want to miss!\n\Details:\nThe Lassen County Chamber of Commerce Presents: The 2025 Magical Country Christmas! ðŸŽ„\n\n \n\nThe Lassen County Chamber of Commerce is thrilled to invite you to the 2025 Magical Country Christmas, happening Saturday, December 6th in Historic Uptown Susanville!\n\n \n\nGet ready for an evening full of holiday cheer as Uptown transforms into a winter wonderland! Stroll through the charming vendor booths, sip and savor during the Hot Toddy Walk, and enjoy live entertainment that will keep your spirits bright.\n\n \n\nThe fun continues with our beloved Magical Country Christmas Parade, followed by spectacular fireworks that light up the Susanville sky. And this year, we’re especially excited to unveil our brand-new community Christmas Tree — the centerpiece of our Annual Tree Lighting Ceremony that will shine brighter than ever before!\n\n \n\nBring your family, gather your friends, and come celebrate the magic of the season with us. It’s a hometown holiday tradition you won’t want to miss!\n\Location:\nUptown Susanville \n\nSusanville, CA 96130
X-ALT-DESC;FMTTYPE=text/html:Magical Country Christmas <br /><br />12/06/25 04:00 PM PST - 12/06/25 07:00 PM PST<br />Description:<br /><p><strong>The Lassen County Chamber of Commerce Presents: The 2025 Magical Country Christmas!</strong>&nbsp;</p>

<p>&nbsp;</p>

<p>The Lassen County Chamber of Commerce is thrilled to invite you to the 2025 Magical Country Christmas, happening Saturday, December 6th in Historic Uptown Susanville!</p>

<p>&nbsp;</p>

<p>Get ready for an evening full of holiday cheer as Uptown transforms into a winter wonderland! Stroll through the charming vendor booths, sip and savor during the Hot Toddy Walk, and enjoy live entertainment that will keep your spirits bright.</p>

<p>&nbsp;</p>

<p>The fun continues with our beloved Magical Country Christmas Parade, followed by spectacular fireworks that light up the Susanville sky. And this year, we&rsquo;re especially excited to unveil our brand-new community Christmas Tree &mdash; the centerpiece of our Annual Tree Lighting Ceremony that will shine brighter than ever before!</p>

<p>&nbsp;</p>

<p>Bring your family, gather your friends, and come celebrate the magic of&nbsp;the season with us. It&rsquo;s a hometown holiday tradition you won&rsquo;t want to miss!</p>
<br />Details:<br /><p><strong>The Lassen County Chamber of Commerce Presents: The 2025 Magical Country Christmas!</strong>&nbsp;ðŸŽ„</p>

<p>&nbsp;</p>

<p>The Lassen County Chamber of Commerce is thrilled to invite you to the 2025 Magical Country Christmas, happening Saturday, December 6th in Historic Uptown Susanville!</p>

<p>&nbsp;</p>

<p>Get ready for an evening full of holiday cheer as Uptown transforms into a winter wonderland! Stroll through the charming vendor booths, sip and savor during the Hot Toddy Walk, and enjoy live entertainment that will keep your spirits bright.</p>

<p>&nbsp;</p>

<p>The fun continues with our beloved Magical Country Christmas Parade, followed by spectacular fireworks that light up the Susanville sky. And this year, we&rsquo;re especially excited to unveil our brand-new community Christmas Tree &mdash; the centerpiece of our Annual Tree Lighting Ceremony that will shine brighter than ever before!</p>

<p>&nbsp;</p>

<p>Bring your family, gather your friends, and come celebrate the magic of&nbsp;the season with us. It&rsquo;s a hometown holiday tradition you won&rsquo;t want to miss!</p>
<br />Location:<br />Uptown Susanville <br /><br />Susanville, CA 96130
PRIORITY:3
TRANSP:TRANSPARENT
BEGIN:VALARM
TRIGGER:-PT5M
ACTION:DISPLAY
DESCRIPTION:Reminder
END:VALARM
END:VEVENT
END:VCALENDAR
