BEGIN:VCALENDAR
VERSION:2.0
CALSCALE:GREGORIAN
METHOD:PUBLISH
PRODID://LASS//1391581
BEGIN:VEVENT
DTSTAMP:20260424T123927
VTIMEZONE:America/Los_Angeles
DTSTART:20251207T000000Z
DTEND:20251207T030000Z
UID:1391581
SUMMARY:Magical Country Christmas Hot Toddy Walk 
LOCATION:Uptown Susanville , Susanville, CA, 96130
DESCRIPTION:Magical Country Christmas Hot Toddy Walk \n\n12/06/25 04:00 PM PST\n - 12/06/25 07:00 PM PST\Description:\nðŸŽ„ Hot Toddy Walk – Lassen County Chamber of Commerce ðŸŽ„\n\n \n\nWarm up your evening during the Magical Country Christmas Parade with the Hot Toddy Walk, hosted by the Lassen County Chamber of Commerce! â˜•âœ¨\n\nJoin us Saturday from 4:00 PM to 7:00 PM for a cozy stroll through uptown Susanville and sample delicious hot toddy creations at participating locations:\n\n Sierra Desert Properties\n Blue Ox\n Haven\n Susanville Real Estate\n Forest Office Equipment\n Margie’s Book Nook\n\n \n\n Tickets available at:\n\n\n	Blue Ox\n	LMUD Parking Lot (during the event)\n\n\nï»¿\n\nEnjoy festive flavors, holiday cheer, and small-town charm while celebrating this magical community tradition. Don’t miss out on a warm sip and a great time!\n\nâ˜ƒï¸ Hot Toddy Walk\nðŸ“… 4 PM – 7 PM\n\Details:\nðŸŽ„ Hot Toddy Walk – Lassen County Chamber of Commerce ðŸŽ„\n\n \n\nWarm up your evening during the Magical Country Christmas Parade with the Hot Toddy Walk, hosted by the Lassen County Chamber of Commerce! â˜•âœ¨\n\nJoin us Saturday from 4:00 PM to 7:00 PM for a cozy stroll through uptown Susanville and sample delicious hot toddy creations at participating locations:\n\n Sierra Desert Properties\n Blue Ox\n Haven\n Susanville Real Estate\n Forest Office Equipment\n Margie’s Book Nook\n\n \n\n Tickets available at:\n\n\n	Blue Ox\n	LMUD Parking Lot (during the event)\n\n\nï»¿\n\nEnjoy festive flavors, holiday cheer, and small-town charm while celebrating this magical community tradition. Don’t miss out on a warm sip and a great time!\n\nâ˜ƒï¸ Hot Toddy Walk\nðŸ“… 4 PM – 7 PM\n\Location:\nUptown Susanville \n\nSusanville, CA 96130
X-ALT-DESC;FMTTYPE=text/html:Magical Country Christmas Hot Toddy Walk <br /><br />12/06/25 04:00 PM PST - 12/06/25 07:00 PM PST<br />Description:<br /><p>ðŸŽ„&nbsp;<strong>Hot Toddy Walk &ndash; Lassen County Chamber of Commerce</strong>&nbsp;ðŸŽ„</p>

<p>&nbsp;</p>

<p>Warm up your evening during the&nbsp;<strong>Magical Country Christmas Parade</strong>&nbsp;with the&nbsp;<strong>Hot Toddy Walk</strong>, hosted by the Lassen County Chamber of Commerce! â˜•âœ¨</p>

<p>Join us&nbsp;<strong>Saturday from 4:00 PM to 7:00 PM</strong>&nbsp;for a cozy stroll through uptown&nbsp;<strong>Susanville</strong>&nbsp;and sample delicious hot toddy creations at participating locations:</p>

<p>&nbsp;<strong>Sierra Desert Properties</strong><br />
&nbsp;<strong>Blue Ox</strong><br />
&nbsp;<strong>Haven</strong><br />
&nbsp;<strong>Susanville Real Estate</strong><br />
&nbsp;<strong>Forest Office Equipment</strong><br />
&nbsp;<strong>Margie&rsquo;s Book Nook</strong></p>

<p>&nbsp;</p>

<p>&nbsp;<strong>Tickets available at:</strong></p>

<ul>
	<li><strong>Blue Ox</strong></li>
	<li><strong>LMUD Parking Lot</strong>&nbsp;(during the event)</li>
</ul>

<p>ï»¿</p>

<p>Enjoy festive flavors, holiday cheer, and small-town charm while celebrating this magical community tradition. Don&rsquo;t miss out on a warm sip and a great time!</p>

<p>â˜ƒï¸&nbsp;<strong>Hot Toddy Walk</strong><br />
ðŸ“…&nbsp;<strong>4 PM &ndash; 7 PM</strong></p>
<br />Details:<br /><p>ðŸŽ„&nbsp;<strong>Hot Toddy Walk &ndash; Lassen County Chamber of Commerce</strong>&nbsp;ðŸŽ„</p>

<p>&nbsp;</p>

<p>Warm up your evening during the&nbsp;<strong>Magical Country Christmas Parade</strong>&nbsp;with the&nbsp;<strong>Hot Toddy Walk</strong>, hosted by the Lassen County Chamber of Commerce! â˜•âœ¨</p>

<p>Join us&nbsp;<strong>Saturday from 4:00 PM to 7:00 PM</strong>&nbsp;for a cozy stroll through uptown&nbsp;<strong>Susanville</strong>&nbsp;and sample delicious hot toddy creations at participating locations:</p>

<p>&nbsp;<strong>Sierra Desert Properties</strong><br />
&nbsp;<strong>Blue Ox</strong><br />
&nbsp;<strong>Haven</strong><br />
&nbsp;<strong>Susanville Real Estate</strong><br />
&nbsp;<strong>Forest Office Equipment</strong><br />
&nbsp;<strong>Margie&rsquo;s Book Nook</strong></p>

<p>&nbsp;</p>

<p>&nbsp;<strong>Tickets available at:</strong></p>

<ul>
	<li><strong>Blue Ox</strong></li>
	<li><strong>LMUD Parking Lot</strong>&nbsp;(during the event)</li>
</ul>

<p>ï»¿</p>

<p>Enjoy festive flavors, holiday cheer, and small-town charm while celebrating this magical community tradition. Don&rsquo;t miss out on a warm sip and a great time!</p>

<p>â˜ƒï¸&nbsp;<strong>Hot Toddy Walk</strong><br />
ðŸ“…&nbsp;<strong>4 PM &ndash; 7 PM</strong></p>
<br />Location:<br />Uptown Susanville <br /><br />Susanville, CA 96130
PRIORITY:3
TRANSP:TRANSPARENT
BEGIN:VALARM
TRIGGER:-PT5M
ACTION:DISPLAY
DESCRIPTION:Reminder
END:VALARM
END:VEVENT
END:VCALENDAR
