BEGIN:VCALENDAR
VERSION:2.0
CALSCALE:GREGORIAN
METHOD:PUBLISH
PRODID://LASS//1391589
BEGIN:VEVENT
DTSTAMP:20260424T123927
VTIMEZONE:America/Los_Angeles
DTSTART:20251208T030000Z
DTEND:20251208T050000Z
UID:1391589
SUMMARY:Christmas In the Ville
LOCATION:60 South Lassen Street, Susanville, CA, 96130
DESCRIPTION:Christmas In the Ville\n\n12/07/25 07:00 PM PST\n - 12/07/25 09:00 PM PST\Description:\nSusanville Symphony Christmas in the Ville Friday, December 5th at 7:00p.m. and Sunday, December 7th at 2:00p.m. at the United Methodist Church.\Details:\nSusanville Symphony Christmas in the Ville Friday, December 5th at 7:00p.m. and Sunday, December 7th at 2:00p.m. at the United Methodist Church.\Location:\n60 South Lassen Street\n\nSusanville, CA 96130
X-ALT-DESC;FMTTYPE=text/html:Christmas In the Ville<br /><br />12/07/25 07:00 PM PST - 12/07/25 09:00 PM PST<br />Description:<br />Susanville Symphony Christmas in the Ville Friday, December 5th at 7:00p.m. and Sunday, December 7th at 2:00p.m. at the United Methodist Church.<br />Details:<br />Susanville Symphony Christmas in the Ville Friday, December 5th at 7:00p.m. and Sunday, December 7th at 2:00p.m. at the United Methodist Church.<br />Location:<br />60 South Lassen Street<br /><br />Susanville, CA 96130
PRIORITY:3
TRANSP:TRANSPARENT
BEGIN:VALARM
TRIGGER:-PT5M
ACTION:DISPLAY
DESCRIPTION:Reminder
END:VALARM
END:VEVENT
END:VCALENDAR
