BEGIN:VCALENDAR
VERSION:2.0
CALSCALE:GREGORIAN
METHOD:PUBLISH
PRODID://LASS//1391591
BEGIN:VEVENT
DTSTAMP:20260424T123939
VTIMEZONE:America/Los_Angeles
DTSTART:20251207T000000Z
DTEND:20251207T030000Z
UID:1391591
SUMMARY:Assembly of God Christmas Bazaar
LOCATION:Susanville Assembly of God, 473-465 Richmond Road N., Susanville, CA, Susanville, CA, 96130
DESCRIPTION:Assembly of God Christmas Bazaar\n\n12/06/25 04:00 PM PST\n - 12/06/25 07:00 PM PST\Description:\nThe Holiday Season is upon us and we can’t wait to share the festive cheer with you.\n\nFriday, December 5th 4:00 – 7:00p.m.\nSaturday, December 6th 9:00 – 2:00p.m.\n\nFor booth information, please call 1.530.249.3702. 473-465 Richmond Road N., Susanville, CA\n\Details:\nThe Holiday Season is upon us and we can’t wait to share the festive cheer with you.\n\nFriday, December 5th 4:00 – 7:00p.m.\nSaturday, December 6th 9:00 – 2:00p.m.\n\nFor booth information, please call 1.530.249.3702. 473-465 Richmond Road N., Susanville, CA\n\Location:\nSusanville Assembly of God\n473-465 Richmond Road N., Susanville, CA\nSusanville, CA 96130
X-ALT-DESC;FMTTYPE=text/html:Assembly of God Christmas Bazaar<br /><br />12/06/25 04:00 PM PST - 12/06/25 07:00 PM PST<br />Description:<br /><p>The Holiday Season is upon us and we can&rsquo;t wait to share the festive cheer with you.</p>

<p>Friday, December 5th 4:00 &ndash; 7:00p.m.<br />
Saturday, December 6th 9:00 &ndash; 2:00p.m.</p>

<p>For booth information, please call 1.530.249.3702. 473-465 Richmond Road N., Susanville, CA</p>
<br />Details:<br /><p>The Holiday Season is upon us and we can&rsquo;t wait to share the festive cheer with you.</p>

<p>Friday, December 5th 4:00 &ndash; 7:00p.m.<br />
Saturday, December 6th 9:00 &ndash; 2:00p.m.</p>

<p>For booth information, please call 1.530.249.3702. 473-465 Richmond Road N., Susanville, CA</p>
<br />Location:<br />Susanville Assembly of God<br />473-465 Richmond Road N., Susanville, CA<br />Susanville, CA 96130
PRIORITY:3
TRANSP:TRANSPARENT
BEGIN:VALARM
TRIGGER:-PT5M
ACTION:DISPLAY
DESCRIPTION:Reminder
END:VALARM
END:VEVENT
END:VCALENDAR
