BEGIN:VCALENDAR
VERSION:2.0
CALSCALE:GREGORIAN
METHOD:PUBLISH
PRODID://WEHO//1391620
BEGIN:VEVENT
DTSTAMP:20260424T130106
VTIMEZONE:America/Los_Angeles
DTSTART:20251209T020000Z
DTEND:20251209T040000Z
UID:1391620
SUMMARY:Mix and Mingle Hosted at La Boheme
LOCATION:La Boheme, West Hollywood, CA, 90069
DESCRIPTION:Mix and Mingle Hosted at La Boheme\n\n12/08/25 06:00 PM PST\n - 12/08/25 08:00 PM PST\Description:\n\nYOU'RE INVITED!\n\nStay for the networking Mix & Mingle,\n\nMonday, December 8th, 2025 | 6–8 PM\n\nJoin us for a festive evening of networking, holiday cheer, and community connection at La Boheme—one of West Hollywood’s most iconic venues.\nThis year’s mixer will also include a special celebration: Gen’s Farewell & Fundraising Party. Keep an eye out for more details coming soon!\nRegistration is required.\n\nMembers in good standing, who pre-register online, attend for free. Day of registration (which includes walk-in) will incur a $10 fee.\n\nNon-Members are allowed to attend up to three mixers before being required to join the Chamber to continue attending this popular networking event. Non-Members pre-registration online fee is $20; day of registration, which includes walk-in, is $30. Pre-registration fee must be paid prior to the day of the event.\n \n\Location:\nLa Boheme\n\nWest Hollywood, CA 90069
X-ALT-DESC;FMTTYPE=text/html:Mix and Mingle Hosted at La Boheme<br /><br />12/08/25 06:00 PM PST - 12/08/25 08:00 PM PST<br />Description:<br /><p style="text-align: center;"><br />
<strong>YOU'RE INVITED!</strong></p>

<p style="text-align: center;">Stay for the networking&nbsp;Mix &amp; Mingle,<br />
<br />
<strong>Monday, December 8th, 2025 | 6&ndash;8 PM</strong></p>

<p data-end="369" data-start="228">Join us for a festive evening of networking, holiday cheer, and community connection at La Boheme&mdash;one of West Hollywood&rsquo;s most iconic venues.<br />
This year&rsquo;s mixer will also include a special celebration: <strong data-end="469" data-start="430">Gen&rsquo;s Farewell &amp; Fundraising Party.</strong> Keep an eye out for more details coming soon!<br />
Registration is required.</p>

<p>Members in good standing, who pre-register online, attend for free. Day of registration (which includes&nbsp;walk-in) will incur a $10 fee.</p>

<p>Non-Members are allowed to attend up to three mixers before being required to join the Chamber to continue attending this popular networking event. Non-Members pre-registration online fee is $20; day of registration, which includes walk-in, is $30. Pre-registration fee must be paid prior to the day of the event.<br />
&nbsp;</p>
<br />Location:<br />La Boheme<br /><br />West Hollywood, CA 90069
PRIORITY:3
TRANSP:TRANSPARENT
BEGIN:VALARM
TRIGGER:-PT5M
ACTION:DISPLAY
DESCRIPTION:Reminder
END:VALARM
END:VEVENT
END:VCALENDAR
