BEGIN:VCALENDAR
VERSION:2.0
CALSCALE:GREGORIAN
METHOD:PUBLISH
PRODID://KING//1391815
BEGIN:VEVENT
DTSTAMP:20260422T115115
VTIMEZONE:America/Phoenix
DTSTART:20251205T160000Z
DTEND:20251205T213000Z
UID:1391815
SUMMARY:20th Annual Mohave County Craft Fair
LOCATION:Mohave County Administration building, 700 W Beale St, Kingman, AZ, 86409
DESCRIPTION:20th Annual Mohave County Craft Fair\n\n12/05/25 09:00 AM MT\n - 12/05/25 02:30 PM MT\Description:\n20th Annual Mohave County Craft Fair. \n\n \Details:\n20th Annual Mohave County Craft Fair\nWhen: Friday December 5th, 9 am to 2:30 pm\nWhere: 700 W Beale St, Kingman AZ.\nLots of homemade crafts from Crochet items, 3D printed, jewelry, soaps and lotions, yard art, home décor, floral arrangements, ornaments and more!\Location:\nMohave County Administration building\n700 W Beale St\nKingman, AZ 86409
X-ALT-DESC;FMTTYPE=text/html:20th Annual Mohave County Craft Fair<br /><br />12/05/25 09:00 AM MT - 12/05/25 02:30 PM MT<br />Description:<br />20<sup>th</sup> Annual Mohave County Craft Fair.&nbsp;<br />
<br />
&nbsp;<br />Details:<br /><span style="font-size:14px"><strong>20<sup>th</sup> Annual Mohave County Craft Fair</strong><br />
<strong>When:</strong>&nbsp;Friday December 5<sup>th</sup>, 9 am to 2:30 pm<br />
<strong>Where:&nbsp;</strong>700 W Beale St, Kingman AZ.<br />
Lots of homemade crafts from Crochet items, 3D printed, jewelry, soaps and lotions, yard art, home d&eacute;cor, floral arrangements, ornaments and more!</span><br />Location:<br />Mohave County Administration building<br />700 W Beale St<br />Kingman, AZ 86409
PRIORITY:3
TRANSP:TRANSPARENT
BEGIN:VALARM
TRIGGER:-PT5M
ACTION:DISPLAY
DESCRIPTION:Reminder
END:VALARM
END:VEVENT
END:VCALENDAR
