BEGIN:VCALENDAR
VERSION:2.0
CALSCALE:GREGORIAN
METHOD:PUBLISH
PRODID://KING//1391820
BEGIN:VEVENT
DTSTAMP:20260422T121348
VTIMEZONE:America/Denver
DTSTART:20251219T220000Z
DTEND:20251220T000000Z
UID:1391820
SUMMARY:Blue Christmas Service
LOCATION:Beale Street Center, 309 E. Beale Street, Room 115, Kingman , AZ, 86409
DESCRIPTION:Blue Christmas Service\n\n12/19/25 03:00 PM MST\n - 12/19/25 05:00 PM MST\Description:\n\nâ„ï¸Welcome to the Blue Christmas Serviceâ„ï¸\n\nJoin us for a heartfelt gathering created to honor those who find the holiday season challenging due to loss, grief, or hardship. This sacred space offers a caring environment to acknowledge pain, remember loved ones, and seek comfort and hope together.\n\nWhile Christmas is often celebrated as a time of joy and togetherness, we recognize that it can also bring feelings of sadness, loneliness, and longing. This service is a gentle reminder that you are not alone — there is hope and healing amidst the darkness.\n\nEvent Details:\nðŸ“ Beale Street Center, Room 115\nðŸ¢ 309 E. Beale Street, Kingman, AZ 86409\nðŸ“… Date: December 19th, 2025\nðŸ• Arrival Time: 2:30 PM\nðŸ•’ Service: 3:00 PM – 5:00 PM\n\nThis non-denominational gathering welcomes everyone. We’ll share a short Christmas service, create a memory tree craft, and participate in a candle-lighting ceremony. Refreshments will be available for fellowship and comfort.\n\nCome as you are — all are welcome to this safe and supportive space.\n\nHosted by River Valley Home Health & Hospice \nPlease RSVP to aimee.miller@rvhhh.com\Details:\nTHIS IS A FREE EVENT & OPEN TO THE PUBLIC \Location:\nBeale Street Center\n309 E. Beale Street, Room 115\nKingman , AZ 86409
X-ALT-DESC;FMTTYPE=text/html:Blue Christmas Service<br /><br />12/19/25 03:00 PM MST - 12/19/25 05:00 PM MST<br />Description:<br /><br />
â„ï¸Welcome to the Blue Christmas Serviceâ„ï¸<br />
<br />
Join us for a heartfelt gathering created to honor those who find the holiday season challenging due to loss, grief, or hardship. This sacred space offers a caring environment to acknowledge pain, remember loved ones, and seek comfort and hope together.<br />
<br />
While Christmas is often celebrated as a time of joy and togetherness, we recognize that it can also bring feelings of sadness, loneliness, and longing. This service is a gentle reminder that you are not alone &mdash; there is hope and healing amidst the darkness.<br />
<br />
Event Details:<br />
ðŸ“ Beale Street Center, Room 115<br />
ðŸ¢ 309 E. Beale Street, Kingman, AZ 86409<br />
ðŸ“… Date: December 19th, 2025<br />
ðŸ• Arrival Time: 2:30 PM<br />
ðŸ•’ Service: 3:00 PM &ndash; 5:00 PM<br />
<br />
This non-denominational gathering welcomes everyone. We&rsquo;ll share a short Christmas service, create a memory tree craft, and participate in a candle-lighting ceremony. Refreshments will be available for fellowship and comfort.<br />
<br />
Come as you are &mdash; all are welcome to this safe and supportive space.<br />
<br />
Hosted by River Valley Home Health &amp; Hospice&nbsp;<br />
Please RSVP to aimee.miller@rvhhh.com<br />Details:<br />THIS IS A FREE EVENT &amp; OPEN TO THE PUBLIC&nbsp;<br />Location:<br />Beale Street Center<br />309 E. Beale Street, Room 115<br />Kingman , AZ 86409
PRIORITY:3
TRANSP:TRANSPARENT
BEGIN:VALARM
TRIGGER:-PT5M
ACTION:DISPLAY
DESCRIPTION:Reminder
END:VALARM
END:VEVENT
END:VCALENDAR
