BEGIN:VCALENDAR
VERSION:2.0
CALSCALE:GREGORIAN
METHOD:PUBLISH
PRODID://KING//1392141
BEGIN:VEVENT
DTSTAMP:20260422T053913
VTIMEZONE:America/Phoenix
DTSTART:20251128T230000Z
DTEND:20251129T013000Z
UID:1392141
SUMMARY:Annual Radar Hill ðŸŽ„ Tree Lighting
LOCATION:Heritage Plaza, 701 N. Stockton Hill Rd., Kingman, AZ, 86409
DESCRIPTION:Annual Radar Hill ðŸŽ„ Tree Lighting\n\n11/28/25 04:00 PM MT\n - 11/28/25 06:30 PM MT\Description:\nRadar Hill Tree Lighting is coming up!\n\nJoin us on November 28th, 2025, from 4:00 PM to 6:30 PM for an evening full of holiday magic at the Heritage Complex at 701 N. Stockton Hill Rd.!\n\nBring the whole family for:\n\n	Activities for the kids\n	Free cookies & cocoa\n	Caroling, music & holiday cheer\n	And of course… the tree lighting that kicks off the season!\n\nHosted by the Kingman Chamber of Commerce and Kingman Premier Properties, this festive community tradition is one you won’t want to miss!\n\nParking available off Johnson Ave. & Hall St.\n\nLet’s light up Radar Hill together! \n \Location:\nHeritage Plaza\n701 N. Stockton Hill Rd.\nKingman, AZ 86409
X-ALT-DESC;FMTTYPE=text/html:Annual Radar Hill ðŸŽ„ Tree Lighting<br /><br />11/28/25 04:00 PM MT - 11/28/25 06:30 PM MT<br />Description:<br /><span style="font-size:14px">Radar Hill Tree Lighting is coming up!<br />
<br />
Join us on November 28th, 2025, from 4:00 PM to 6:30 PM for an evening full of holiday magic at the Heritage Complex at 701 N. Stockton Hill Rd.!<br />
<br />
Bring the whole family for:</span>
<ul>
	<li><span style="font-size:14px">Activities for the kids</span></li>
	<li><span style="font-size:14px">Free cookies &amp; cocoa</span></li>
	<li><span style="font-size:14px">Caroling, music &amp; holiday cheer</span></li>
	<li><span style="font-size:14px">And of course&hellip; the tree lighting that kicks off the season!</span></li>
</ul>
<span style="font-size:14px">Hosted by the Kingman Chamber of Commerce and Kingman Premier Properties, this festive community tradition is one you won&rsquo;t want to miss!<br />
<br />
Parking available off Johnson Ave. &amp; Hall St.<br />
<br />
Let&rsquo;s light up Radar Hill together!&nbsp;</span><br />
&nbsp;<br />Location:<br />Heritage Plaza<br />701 N. Stockton Hill Rd.<br />Kingman, AZ 86409
PRIORITY:3
TRANSP:TRANSPARENT
BEGIN:VALARM
TRIGGER:-PT5M
ACTION:DISPLAY
DESCRIPTION:Reminder
END:VALARM
END:VEVENT
END:VCALENDAR
