BEGIN:VCALENDAR
VERSION:2.0
CALSCALE:GREGORIAN
METHOD:PUBLISH
PRODID://AFFT//1392144
BEGIN:VEVENT
DTSTAMP:20260420T040312
VTIMEZONE:America/Chicago
DTSTART:20251215T010000Z
DTEND:20251215T020000Z
UID:1392144
SUMMARY:Holiday Concert: The Buckhannon Brothers
LOCATION:Ulysses S. Grant National Historic Site, 7400 Grant Road, St. Louis, MO, 63123
DESCRIPTION:Holiday Concert: The Buckhannon Brothers\n\n12/14/25 07:00 PM CST\n - 12/14/25 08:00 PM CST\Description:\nEnjoy a festive concert by the Buckhannon Brothers in the park’s theater. Visitors are invited to attend the open house between 5:30PM - 6:45PM, concert, or both! Activities are free and no reservations are required.\n\nNote: Grant’s Farm will be open that evening for their walk-through holiday lights. Our parking lot is open just for our visitors and is free.\Details:\nThis event is free. \Location:\nUlysses S. Grant National Historic Site\n7400 Grant Road\nSt. Louis, MO 63123
X-ALT-DESC;FMTTYPE=text/html:Holiday Concert: The Buckhannon Brothers<br /><br />12/14/25 07:00 PM CST - 12/14/25 08:00 PM CST<br />Description:<br />Enjoy a festive concert by the Buckhannon Brothers in the park&rsquo;s theater. Visitors are invited to attend the open house between 5:30PM - 6:45PM, concert, or both! Activities are free and no reservations are required.<br />
<br />
Note: Grant&rsquo;s Farm will be open that evening for their walk-through holiday lights. Our parking lot is open just for our visitors and is free.<br />Details:<br />This event is free.&nbsp;<br />Location:<br />Ulysses S. Grant National Historic Site<br />7400 Grant Road<br />St. Louis, MO 63123
PRIORITY:3
TRANSP:TRANSPARENT
BEGIN:VALARM
TRIGGER:-PT5M
ACTION:DISPLAY
DESCRIPTION:Reminder
END:VALARM
END:VEVENT
END:VCALENDAR
