BEGIN:VCALENDAR
VERSION:2.0
CALSCALE:GREGORIAN
METHOD:PUBLISH
PRODID://CCCC//1393034
BEGIN:VEVENT
DTSTAMP:20260424T095116
VTIMEZONE:America/Los_Angeles
DTSTART:20260204T163000Z
DTEND:20260225T183000Z
UID:1393034
SUMMARY:Practical QuickBooks for New Users - 4 Weeks, 2 Hours per week Cohort Series - Chico
LOCATION:Butte College SBDC, 2480 Notre Dame Blvd., Chico, CA, 95928
DESCRIPTION:Practical QuickBooks for New Users - 4 Weeks, 2 Hours per week Cohort Series - Chico\n\n02/04/26 08:30 AM PST\n - 02/25/26 10:30 AM PST\Description:\nAccurate bookkeeping is critical to the success of any business.  This QuickBooks Series is for entrepreneurs and business owners in the beginning stage of bookkeeping (i.e., planning, have not yet purchased their system, or have purchased but not using).  The trainer will guide you through the basics of accounting from identifying the best QuickBooks version for your business, to setting up your system, managing accounts, and using financial reports to manage your day-to-day activities.  You can access free individual one-on-one consulting simultaneously, or after the series. This 4-weeks, 2 hours per week series includes 4 focus areas:\nWeek 1: February 4th: Accounting Basics & Getting Started with QuickBooks - Training includes: Basics of accounting, identifying the QuickBooks version that is best for your business, and setting up your company and chart of accounts in QuickBooks.\nWeek 2: February 11th: Setting up Items and Creating Forms - Training includes: Setting up items, using purchase orders, customizing invoices, and creating forms in QuickBooks.\nWeek 3: February 18th: Accounts Receivable - Training includes: Setting up online bank feeds, creating estimates and invoices, sales receipts, receiving payments, and managing accounts payable reports.\nWeek 4: February 25th: Accounts Payable, Banking Reconciliations, and Reports - Training includes: Accounts Payable, Bank Reconciliations, entering expenses and bills, paying bills, managing reports, Profit & Loss Statement, Balance Sheet, and more!\n \Details:\nDate: Wednesdays, February 4th, 11th, 18th and 25th, 2026\nTime: 8:30am – 10:30am\nLocation: Butte College SBDC, 2480 Notre Dame Blvd., Chico\nCost: $50.00\nRegister Here:  https://www.buttecollegesbdc.com/events/\n\n \Location:\nButte College SBDC\n2480 Notre Dame Blvd.\nChico, CA 95928
X-ALT-DESC;FMTTYPE=text/html:Practical QuickBooks for New Users - 4 Weeks, 2 Hours per week Cohort Series - Chico<br /><br />02/04/26 08:30 AM PST - 02/25/26 10:30 AM PST<br />Description:<br />Accurate bookkeeping is critical to the success of any business.&nbsp; This QuickBooks Series is for entrepreneurs and business owners in the beginning stage of bookkeeping (i.e., planning, have not yet purchased their system, or have purchased but not using).&nbsp; The trainer will guide you through the basics of accounting from identifying the best QuickBooks version for your business, to setting up your system, managing accounts, and using financial reports to manage your day-to-day activities.&nbsp; You can access free individual one-on-one consulting&nbsp;simultaneously, or after the series. This 4-weeks, 2 hours per week series includes 4 focus areas:<br />
Week 1:&nbsp;February 4th: Accounting Basics &amp; Getting Started with QuickBooks - Training includes: Basics of accounting, identifying the QuickBooks version that is best for your business, and setting up your company and chart of accounts in QuickBooks.<br />
Week 2: February 11th: Setting up Items and Creating Forms - Training includes: Setting up items, using purchase orders, customizing invoices, and creating forms in QuickBooks.<br />
Week 3: February 18th: Accounts Receivable - Training includes: Setting up online bank feeds, creating estimates and invoices, sales receipts, receiving payments, and managing accounts payable reports.<br />
Week 4: February 25th: Accounts Payable, Banking Reconciliations, and Reports - Training includes:&nbsp;Accounts Payable, Bank Reconciliations, entering expenses and bills, paying bills, managing reports, Profit &amp; Loss Statement, Balance Sheet, and more!<br />
&nbsp;<br />Details:<br />Date: Wednesdays, February 4th, 11th, 18th and 25th, 2026<br />
Time: 8:30am &ndash; 10:30am<br />
Location: Butte College SBDC, 2480 Notre Dame Blvd., Chico<br />
Cost: $50.00<br />
Register Here: &nbsp;https://www.buttecollegesbdc.com/events/<br />
<br />
&nbsp;<br />Location:<br />Butte College SBDC<br />2480 Notre Dame Blvd.<br />Chico, CA 95928
PRIORITY:3
TRANSP:TRANSPARENT
BEGIN:VALARM
TRIGGER:-PT5M
ACTION:DISPLAY
DESCRIPTION:Reminder
END:VALARM
END:VEVENT
END:VCALENDAR
