BEGIN:VCALENDAR
VERSION:2.0
CALSCALE:GREGORIAN
METHOD:PUBLISH
PRODID://RRCC//1393094
BEGIN:VEVENT
DTSTAMP:20260422T053837
VTIMEZONE:America/Chicago
DTSTART:20251213T150000Z
DTEND:20251213T200000Z
UID:1393094
SUMMARY:Christmas Market 
LOCATION:, TX
DESCRIPTION:Christmas Market \n\n12/13/25 09:00 AM CST\n - 12/13/25 02:00 PM CST\Description:\nMerry Christmas Market in Historic Downtown Clarksville, Texas on Saturday, December 13, 2025 from 9:00 a.m. to 2:00 p.m.\n\nVendors, Christmas Shopping, Family Fun!\n\nToy drop off for Santa!  
X-ALT-DESC;FMTTYPE=text/html:Christmas Market <br /><br />12/13/25 09:00 AM CST - 12/13/25 02:00 PM CST<br />Description:<br />Merry Christmas Market in Historic Downtown Clarksville, Texas on Saturday, December 13, 2025 from 9:00 a.m. to 2:00 p.m.<br />
<br />
Vendors, Christmas Shopping, Family Fun!<br />
<br />
Toy drop off for Santa!&nbsp;&nbsp;
PRIORITY:3
TRANSP:TRANSPARENT
BEGIN:VALARM
TRIGGER:-PT5M
ACTION:DISPLAY
DESCRIPTION:Reminder
END:VALARM
END:VEVENT
END:VCALENDAR
